Workbook

Sheet Instructivo
C1: UNIVERSIDAD DE CÓRDOBA | H1: CÓDIGO: FMAM-013 VERSIÓN: 06 EMISIÓN: 05/12/2023
C2: MATRIZ MAPA DE RIESGOS
B4: Matriz Mapa de Riesgos
B6: Teniendo en cuenta que con la expedición del Decreto 1499 de 2017 “Por medio del cual se modifica el Decreto 1083 de 2015, Decreto Único Reglamentario del Sector Función Pública, en lo relacionado con el Sistema de Gestión establecido en el artículo 133 de la Ley 1753 de 2015”, se crea un solo Sistema de Gestión y se alinea con el Sistema de Control Interno, hoy todas las entidades públicas requieren actualizar y/o implementar el Modelo Integrado de Planeación y Gestión MIPG, modelo que incorpora el Modelo Estándar de Control Interno MECI a través de la 7a dimensión del mismo. En este marco general, el proceso de administración del riesgo es un esfuerzo conjunto entre la Alta Dirección y los servidores en todos sus niveles, ejercicio que inicia con la formulación de la política de Administración del Riesgo, la cual incluye los niveles de responsabilidad frente al seguimiento y evaluación, aspectos que deberán definirse acorde con el Esquema de Líneas de Defensa vinculado a la Dimensión 7. Teniendo en cuenta lo anterior y dada la necesidad de las entidades frente a la estructuración de los mapas de riesgos, como herramienta fundamental frente a la gestión del riesgo, el presente formato desarrolla un esquema completo acorde con los contenidos metodológicos de la Guía para la Administración del Riesgo y el diseño de controles V5. El formato cuenta con celdas parametrizadas y permite contar con los respectivos mapas de calor para riesgo inherente y riesgo residual.
B8: Orientaciones Generales
B9: Antes de iniciar con el diligenciamiento de la información en la matriz, se requiere haber avanzado en el análisis del proceso, su objetivo, alcance, actividades clave, considere los lineamientos establecidos en el Paso 2: identificación del riesgo, donde se explica ampliamente las bases para adelanter este análisis. Así mismo, considere en el Paso 3: valoración del riesgo los lineamientos para definir el No. de veces que se hace la actividad con la cual se relaciona el riesgo y su impacto en términos económicos o reputacionales. En este mismo paso se analizan los controles que deben responder a los atributos de eficiencia e informativos. NOTA: Si lo considera pertinente, es posible agregar hojas de trabajo adicionales al presente formato que permitan incluir la traza de estos análisis.
B11: El archivo contiene las siguientes hojas: - Hoja 1 Instructivo - Hoja 2 Mapa Final: Encontrará la totalidad de la estructura para la identificación y valoración de los riesgos por proceso, programa o proyecto, acorde con el nivel de desagregación que la entidad considere necesaria.
C14: Columna | E14: Descripción - Lineamientos para el diligenciamiento
C15: Proceso | E15: Diligencie el nombre del proceso al cual se le identificarán y valorarán los riesgos.
C16: Objetivo | E16: Diligencie el objetivo del proceso.
C17: Alcance | E17: Diligencie el alcance del proceso.
C18: Referencia | E18: Permite definir unl consecutivo de riesgos. Una entidad puede ir en el riesgo 150, pero tener 70 riesgos, lo que permite llevar una traza de los riesgos. Esta información la debe administrar la oficina asesora de planeación o gerencia de riesgos. Cuando un el riesgo salga del mapa no existirá otro riesgo con el mismo número.
C19: Impacto | E19: Analice las consecuencias que puede ocasionar a la organización la materialización del riesgo, redacte de la forma más concreta posible.
C20: Causa Inmediata | E20: Circunstancias bajo las cuales se presenta el riesgo, es la situación más evidente frente al riesgo, redacte de la forma más concreta posible.
C21: Causa Raíz | E21: Causa principal o básica, corresponde a las razones por la cuales se puede presentar el riesgo, redacte de la forma más concreta posible.
C22: Descripción del Riesgo | E22: Consolida o resume los análisis sobre impacto + causa inmediata + causa raíz, permitiendo contar con una redacción clara y concreta del riesgo indentificado. Tenga en cuenta la estructura de alto nivel establecida en al guía, inicia con POSIBILIDAD DE + Impacto para la entidad (Qué) + Causa Inmediata (Cómo) + Causa Raíz (Por qué)
C23: Clasificación del Riesgo | E23: Utilice la lista de despligue que se encuentra parametrizada, le aparecerán las opciones: i)Daños Activos Fisicos, ii)Ejecucion y Administracion de procesos, iii)Fallas Tecnologicas, iv)Fraude Externo, v)Fraude Interno, vi)Relaciones Laborales, vii)Usuarios, productos y practicas organizacionales.
C24: Frecuencia con la cual se lleva a cabo la actividad | E24: Defina el # de veces que se ejecuta la actividad durante el año, (Recuerde la probabilidad e ocurrencia del riesgo se defien como el No. de veces que se pasa por el punto de riesgo en el periodo de 1 año). La matriz automáticamente hará el cálculo para el nivel de probabilidad inherente (Columnas H-I)
C25: Criterios de Impacto | E25: Utilice la lista de despligue que se encuentra parametrizada, le aparecerán las opciones de la tabla de Impacto en la Hoja 6 del presente documento. La matriz automáticamente hará el cálculo para el nivel de impacto inherente (Columnas L-M)
... C39: Estado | E39: Utilice la lista de despligue que se encuentra parametrizada, le aparecerán las opciones: i)Finalizado, ii)En curso, la selección en este caso dependerá de las acciones del plan que se hayan establecido en cada caso.
B42: - Hoja 3 Matriz de Calor Inherente: En esta hoja, en la medida en que ese diligencia el Mapa Final, se verán reflejados los riesgos en su zona correspondiente. Esta hoja no se diligencia se genera de manera automática.
B43: - Hoja 4 Matriz de Calor Residual: En esta hoja, en la medida en que ese diligencia el Mapa Final, se verán reflejados los riesgos en su zona correspondiente. Esta hoja no se diligencia se genera de manera automática.
B44: - Hoja 5 Tabla de probabilidad: Tabla referente para todos los cálculos (no se diligencia)
B45: - Hoja 6 Tabla de Impacto: Tabla referente para todos los cálculos (no se diligencia)
B46: - Hoja 7 Tabla de Valoración de Controles: Tabla referente para todos los cálculos (no se diligencia)

Sheet Mapa inherente
C1: UNIVERSIDAD DE CÓRDOBA | M1: CÓDIGO: FMAM-013 VERSIÓN: 06 EMISIÓN: 12/12/2023
C2: MATRIZ MAPA DE RIESGOS
A4: Proceso: | C4: BIENESTAR INSTITUCIONAL | F4: Objetivo: | G4: El mejoramiento de la salud física, mental, espiritual, social y familiar de estudiantes, servidores públicos docentes y no docentes, para contribuir a su formación integral, calidad de vida, construcción de comunidad y clima institucional, a través del desarrollo de programas de Bienestar Institucional, eficaces, eficientes y pertinentes. | J4: Alcance: | L4: El proceso de Bienestar Institucional aplica para los estudiantes de pregrado y posgrado, servidores públicos docentes y no docentes activos en la Universidad de Córdoba.
A5: Fecha elaboración | C5: 45399
A7: Identificación del riesgo | G7: Análisis del riesgo inherente
A8: Referencia | B8: Impacto | C8: Causa Inmediata | D8: Causa Raíz | E8: Descripción del Riesgo | F8: Clasificación del Riesgo | G8: Frecuencia con la cual se realiza la actividad - Diligencie este campo | H8: Probabilidad Inherente | I8: % | J8: Criterios de impacto - Diligencie este campo | K8: Observación de criterio | L8: Impacto Inherente | M8: % | N8: Zona de Riesgo Inherente
A10: 1 | B10: Reputacional | C10: Los programas de Bienestar no favorecen la adaptación de estudiantes provenientes de poblaciones vulnerables y heterogéneas | D10: La no identificación de necesidades y requerimientos de la población vulnerable y heterogenea presente en la Universidad | E10: Posibilidad de afectación reputacional porque los programas de Bienestar no favorecen la adaptación de estudiantes provenientes de poblaciones vulnerables heterogeneas debido a que no se cuenta con la identificación de necesidades y requerimientos de dicha población | F10: Ejecucion y Administracion de procesos | G10: 2 | H10: =IF(G10<=0,"",IF(G10<=2,"Muy Baja",IF(G10<=24,"Baja",IF(G10<=500,"Media",IF(G10<=5000,"Alta","Muy Alta"))))) -> Muy Baja | I10: =IF(H10="","",IF(H10="Muy Baja",0.2,IF(H10="Baja",0.4,IF(H10="Media",0.6,IF(H10="Alta",0.8,IF(H10="Muy Alta",1,)))))) -> 0.2 | J10: El riesgo afecta la imagen de la entidad con algunos usuarios de relevancia frente al logro de los objetivos | K10: =IF(NOT(ISERROR(MATCH(J10,'Tabla Impacto'!$B$225:$B$227,0))),'Tabla Impacto'!$F$227&"Por favor no seleccionar los criterios de impacto(Afectación Económica o presupuestal y Pérdida Reputacional)",J10) -> El riesgo afecta la imagen de la entidad con algunos usuarios de relevancia frente al logro de los objetivos | L10: =IF(OR(K10='Tabla Impacto'!$C$15,K10='Tabla Impacto'!$D$15),"Leve",IF(OR(K10='Tabla Impacto'!$C$16,K10='Tabla Impacto'!$D$16),"Menor",IF(OR(K10='Tabla Impacto'!$C$17,K10='Tabla Impacto'!$D$17),"Moderado",IF(OR(K10='Tabla Impacto'!$C$18,K10='Tabla Impacto'!$D$18),"Mayor",IF(OR(K10='Tabla Impacto'!$C$19,K10='Tabla Impacto'!$D$19),"Catastrófico",""))))) -> Moderado | M10: =IF(L10="","",IF(L10="Leve",0.2,IF(L10="Menor",0.4,IF(L10="Moderado",0.6,IF(L10="Mayor",0.8,IF(L10="Catastrófico",1,)))))) -> 0.6 | N10: =IF(OR(AND(H10="Muy Baja",L10="Leve"),AND(H10="Muy Baja",L10="Menor"),AND(H10="Baja",L10="Leve")),"Bajo",IF(OR(AND(H10="Muy baja",L10="Moderado"),AND(H10="Baja",L10="Menor"),AND(H10="Baja",L10="Moderado"),AND(H10="Media",L10="Leve"),AND(H10="Media",L10="Menor"),AND(H10="Media",L10="Moderado"),AND(H10="Alta",L10="Leve"),AND(H10="Alta",L10="Menor")),"Moderado",IF(OR(AND(H10="Muy Baja",L10="Mayor"),AND(H10="Baja",L10="Mayor"),AND(H10="Media",L10="Mayor"),AND(H10="Alta",L10="Moderado"),AND(H10="Alta",L10="Mayor"),AND(H10="Muy Alta",L10="Leve"),AND(H10="Muy Alta",L10="Menor"),AND(H10="Muy Alta",L10="Moderado"),AND(H10="Muy Alta",L10="Mayor")),"Alto",IF(OR(AND(H10="Muy Baja",L10="Catastrófico"),AND(H10="Baja",L10="Catastrófico"),AND(H10="Media",L10="Catastrófico"),AND(H10="Alta",L10="Catastrófico"),AND(H10="Muy Alta",L10="Catastrófico")),"Extremo","")))) -> Moderado
A11: 2 | B11: Reputacional | C11: La no contratación a tiempo para la prestacion del servicio | D11: Retrasos en la Contratación requerida para la prestación de servicios | E11: La posibilidad de afectación reputacional por falta de oportunidad en la prestación de los servicios debido a los retrasos en la contratación de prestadores externos | F11: Ejecucion y Administracion de procesos | G11: 2 | H11: =IF(G11<=0,"",IF(G11<=2,"Muy Baja",IF(G11<=24,"Baja",IF(G11<=500,"Media",IF(G11<=5000,"Alta","Muy Alta"))))) -> Muy Baja | I11: =IF(H11="","",IF(H11="Muy Baja",0.2,IF(H11="Baja",0.4,IF(H11="Media",0.6,IF(H11="Alta",0.8,IF(H11="Muy Alta",1,)))))) -> 0.2 | J11: El riesgo afecta la imagen de la entidad internamente, de conocimiento general, nivel interno, de junta dircetiva y accionistas y/o de provedores | K11: =IF(NOT(ISERROR(MATCH(J11,'Tabla Impacto'!$B$225:$B$227,0))),'Tabla Impacto'!$F$227&"Por favor no seleccionar los criterios de impacto(Afectación Económica o presupuestal y Pérdida Reputacional)",J11) -> El riesgo afecta la imagen de la entidad internamente, de conocimiento general, nivel interno, de junta dircetiva y accionistas y/o de provedores | L11: =IF(OR(K11='Tabla Impacto'!$C$15,K11='Tabla Impacto'!$D$15),"Leve",IF(OR(K11='Tabla Impacto'!$C$16,K11='Tabla Impacto'!$D$16),"Menor",IF(OR(K11='Tabla Impacto'!$C$17,K11='Tabla Impacto'!$D$17),"Moderado",IF(OR(K11='Tabla Impacto'!$C$18,K11='Tabla Impacto'!$D$18),"Mayor",IF(OR(K11='Tabla Impacto'!$C$19,K11='Tabla Impacto'!$D$19),"Catastrófico",""))))) -> Menor | M11: =IF(L11="","",IF(L11="Leve",0.2,IF(L11="Menor",0.4,IF(L11="Moderado",0.6,IF(L11="Mayor",0.8,IF(L11="Catastrófico",1,)))))) -> 0.4 | N11: =IF(OR(AND(H11="Muy Baja",L11="Leve"),AND(H11="Muy Baja",L11="Menor"),AND(H11="Baja",L11="Leve")),"Bajo",IF(OR(AND(H11="Muy baja",L11="Moderado"),AND(H11="Baja",L11="Menor"),AND(H11="Baja",L11="Moderado"),AND(H11="Media",L11="Leve"),AND(H11="Media",L11="Menor"),AND(H11="Media",L11="Moderado"),AND(H11="Alta",L11="Leve"),AND(H11="Alta",L11="Menor")),"Moderado",IF(OR(AND(H11="Muy Baja",L11="Mayor"),AND(H11="Baja",L11="Mayor"),AND(H11="Media",L11="Mayor"),AND(H11="Alta",L11="Moderado"),AND(H11="Alta",L11="Mayor"),AND(H11="Muy Alta",L11="Leve"),AND(H11="Muy Alta",L11="Menor"),AND(H11="Muy Alta",L11="Moderado"),AND(H11="Muy Alta",L11="Mayor")),"Alto",IF(OR(AND(H11="Muy Baja",L11="Catastrófico"),AND(H11="Baja",L11="Catastrófico"),AND(H11="Media",L11="Catastrófico"),AND(H11="Alta",L11="Catastrófico"),AND(H11="Muy Alta",L11="Catastrófico")),"Extremo","")))) -> Bajo
A12: 3 | B12: Económico y Reputacional | C12: El presupuesto asignado al proceso es inferior a lo proyectado para la ejecución de los programas | D12: Bajo presupuesto para la ejecución del POA | E12: Posibilidad de afectación economico y reputacional por presupuesto insuficiente para la ejecución total del Plan Operativo Anual | F12: Ejecucion y Administracion de procesos | G12: 2 | H12: =IF(G12<=0,"",IF(G12<=2,"Muy Baja",IF(G12<=24,"Baja",IF(G12<=500,"Media",IF(G12<=5000,"Alta","Muy Alta"))))) -> Muy Baja | I12: =IF(H12="","",IF(H12="Muy Baja",0.2,IF(H12="Baja",0.4,IF(H12="Media",0.6,IF(H12="Alta",0.8,IF(H12="Muy Alta",1,)))))) -> 0.2 | J12: El riesgo afecta la imagen de la entidad con algunos usuarios de relevancia frente al logro de los objetivos | K12: =IF(NOT(ISERROR(MATCH(J12,'Tabla Impacto'!$B$225:$B$227,0))),'Tabla Impacto'!$F$227&"Por favor no seleccionar los criterios de impacto(Afectación Económica o presupuestal y Pérdida Reputacional)",J12) -> El riesgo afecta la imagen de la entidad con algunos usuarios de relevancia frente al logro de los objetivos | L12: =IF(OR(K12='Tabla Impacto'!$C$15,K12='Tabla Impacto'!$D$15),"Leve",IF(OR(K12='Tabla Impacto'!$C$16,K12='Tabla Impacto'!$D$16),"Menor",IF(OR(K12='Tabla Impacto'!$C$17,K12='Tabla Impacto'!$D$17),"Moderado",IF(OR(K12='Tabla Impacto'!$C$18,K12='Tabla Impacto'!$D$18),"Mayor",IF(OR(K12='Tabla Impacto'!$C$19,K12='Tabla Impacto'!$D$19),"Catastrófico",""))))) -> Moderado | M12: =IF(L12="","",IF(L12="Leve",0.2,IF(L12="Menor",0.4,IF(L12="Moderado",0.6,IF(L12="Mayor",0.8,IF(L12="Catastrófico",1,)))))) -> 0.6 | N12: =IF(OR(AND(H12="Muy Baja",L12="Leve"),AND(H12="Muy Baja",L12="Menor"),AND(H12="Baja",L12="Leve")),"Bajo",IF(OR(AND(H12="Muy baja",L12="Moderado"),AND(H12="Baja",L12="Menor"),AND(H12="Baja",L12="Moderado"),AND(H12="Media",L12="Leve"),AND(H12="Media",L12="Menor"),AND(H12="Media",L12="Moderado"),AND(H12="Alta",L12="Leve"),AND(H12="Alta",L12="Menor")),"Moderado",IF(OR(AND(H12="Muy Baja",L12="Mayor"),AND(H12="Baja",L12="Mayor"),AND(H12="Media",L12="Mayor"),AND(H12="Alta",L12="Moderado"),AND(H12="Alta",L12="Mayor"),AND(H12="Muy Alta",L12="Leve"),AND(H12="Muy Alta",L12="Menor"),AND(H12="Muy Alta",L12="Moderado"),AND(H12="Muy Alta",L12="Mayor")),"Alto",IF(OR(AND(H12="Muy Baja",L12="Catastrófico"),AND(H12="Baja",L12="Catastrófico"),AND(H12="Media",L12="Catastrófico"),AND(H12="Alta",L12="Catastrófico"),AND(H12="Muy Alta",L12="Catastrófico")),"Extremo","")))) -> Moderado
A13: 4 | B13: Reputacional | C13: Adelantar un trámite que beneficie a su solicitante (estudiantes, docentes y administrativos) sin el cumplimento de los requisitos establecidos para ello | D13: debido al tráfico de influencia, Amiguismo y/o clientelismo | E13: Posibilidad de afectación reputacional por adelantar tramites que beneficien a su solicitante (estudiantes, docentes y administrativos) sin el cumplimento de los requisitos establecidos para ello, por tráfico de influencia, Amiguismo y/o clientelismo | F13: Fraude Interno | G13: 3 | H13: =IF(G13<=0,"",IF(G13<=2,"Muy Baja",IF(G13<=24,"Baja",IF(G13<=500,"Media",IF(G13<=5000,"Alta","Muy Alta"))))) -> Baja | I13: =IF(H13="","",IF(H13="Muy Baja",0.2,IF(H13="Baja",0.4,IF(H13="Media",0.6,IF(H13="Alta",0.8,IF(H13="Muy Alta",1,)))))) -> 0.4 | J13: El riesgo afecta la imagen de alguna área de la organización | K13: =IF(NOT(ISERROR(MATCH(J13,'Tabla Impacto'!$B$225:$B$227,0))),'Tabla Impacto'!$F$227&"Por favor no seleccionar los criterios de impacto(Afectación Económica o presupuestal y Pérdida Reputacional)",J13) -> El riesgo afecta la imagen de alguna área de la organización | L13: =IF(OR(K13='Tabla Impacto'!$C$15,K13='Tabla Impacto'!$D$15),"Leve",IF(OR(K13='Tabla Impacto'!$C$16,K13='Tabla Impacto'!$D$16),"Menor",IF(OR(K13='Tabla Impacto'!$C$17,K13='Tabla Impacto'!$D$17),"Moderado",IF(OR(K13='Tabla Impacto'!$C$18,K13='Tabla Impacto'!$D$18),"Mayor",IF(OR(K13='Tabla Impacto'!$C$19,K13='Tabla Impacto'!$D$19),"Catastrófico",""))))) -> Leve | M13: =IF(L13="","",IF(L13="Leve",0.2,IF(L13="Menor",0.4,IF(L13="Moderado",0.6,IF(L13="Mayor",0.8,IF(L13="Catastrófico",1,)))))) -> 0.2 | N13: =IF(OR(AND(H13="Muy Baja",L13="Leve"),AND(H13="Muy Baja",L13="Menor"),AND(H13="Baja",L13="Leve")),"Bajo",IF(OR(AND(H13="Muy baja",L13="Moderado"),AND(H13="Baja",L13="Menor"),AND(H13="Baja",L13="Moderado"),AND(H13="Media",L13="Leve"),AND(H13="Media",L13="Menor"),AND(H13="Media",L13="Moderado"),AND(H13="Alta",L13="Leve"),AND(H13="Alta",L13="Menor")),"Moderado",IF(OR(AND(H13="Muy Baja",L13="Mayor"),AND(H13="Baja",L13="Mayor"),AND(H13="Media",L13="Mayor"),AND(H13="Alta",L13="Moderado"),AND(H13="Alta",L13="Mayor"),AND(H13="Muy Alta",L13="Leve"),AND(H13="Muy Alta",L13="Menor"),AND(H13="Muy Alta",L13="Moderado"),AND(H13="Muy Alta",L13="Mayor")),"Alto",IF(OR(AND(H13="Muy Baja",L13="Catastrófico"),AND(H13="Baja",L13="Catastrófico"),AND(H13="Media",L13="Catastrófico"),AND(H13="Alta",L13="Catastrófico"),AND(H13="Muy Alta",L13="Catastrófico")),"Extremo","")))) -> Bajo
A14: 5 | B14: Económico y Reputacional | C14: Apropiación, uso o aplicación indebida de los equipos y elementos de las áreas Culturales, artísticas y deportivas, por parte de los funcionarios públicos encargados de su administración, manejo y/o custodia, en beneficio propio, favorecimiento a terceros o asuntos no institucionales | D14: Extralimitación de funciones y falta de controles para asegurar el correcto uso de los equipos y elementos de las áreas Culturales, artísticas y deportivas | E14: Posibilidad de afectación Económico y Reputacional por la apropiación, uso o aplicación indebida de los equipos y elementos de las áreas Culturales, artísticas y deportivas, por parte de los funcionarios públicos encargados de su administración, manejo y/o custodia, en beneficio propio, favorecimiento a terceros o asuntos no institucionales por Extralimitación de funciones y falta de controles para asegurar el correcto uso de los equipos y elementos de las áreas Culturales, artísticas y deportivas | F14: Fraude Interno | G14: 168 | H14: =IF(G14<=0,"",IF(G14<=2,"Muy Baja",IF(G14<=24,"Baja",IF(G14<=500,"Media",IF(G14<=5000,"Alta","Muy Alta"))))) -> Media | I14: =IF(H14="","",IF(H14="Muy Baja",0.2,IF(H14="Baja",0.4,IF(H14="Media",0.6,IF(H14="Alta",0.8,IF(H14="Muy Alta",1,)))))) -> 0.6 | J14: El riesgo afecta la imagen de la entidad con algunos usuarios de relevancia frente al logro de los objetivos | K14: =IF(NOT(ISERROR(MATCH(J14,'Tabla Impacto'!$B$225:$B$227,0))),'Tabla Impacto'!$F$227&"Por favor no seleccionar los criterios de impacto(Afectación Económica o presupuestal y Pérdida Reputacional)",J14) -> El riesgo afecta la imagen de la entidad con algunos usuarios de relevancia frente al logro de los objetivos | L14: =IF(OR(K14='Tabla Impacto'!$C$15,K14='Tabla Impacto'!$D$15),"Leve",IF(OR(K14='Tabla Impacto'!$C$16,K14='Tabla Impacto'!$D$16),"Menor",IF(OR(K14='Tabla Impacto'!$C$17,K14='Tabla Impacto'!$D$17),"Moderado",IF(OR(K14='Tabla Impacto'!$C$18,K14='Tabla Impacto'!$D$18),"Mayor",IF(OR(K14='Tabla Impacto'!$C$19,K14='Tabla Impacto'!$D$19),"Catastrófico",""))))) -> Moderado | M14: =IF(L14="","",IF(L14="Leve",0.2,IF(L14="Menor",0.4,IF(L14="Moderado",0.6,IF(L14="Mayor",0.8,IF(L14="Catastrófico",1,)))))) -> 0.6 | N14: =IF(OR(AND(H14="Muy Baja",L14="Leve"),AND(H14="Muy Baja",L14="Menor"),AND(H14="Baja",L14="Leve")),"Bajo",IF(OR(AND(H14="Muy baja",L14="Moderado"),AND(H14="Baja",L14="Menor"),AND(H14="Baja",L14="Moderado"),AND(H14="Media",L14="Leve"),AND(H14="Media",L14="Menor"),AND(H14="Media",L14="Moderado"),AND(H14="Alta",L14="Leve"),AND(H14="Alta",L14="Menor")),"Moderado",IF(OR(AND(H14="Muy Baja",L14="Mayor"),AND(H14="Baja",L14="Mayor"),AND(H14="Media",L14="Mayor"),AND(H14="Alta",L14="Moderado"),AND(H14="Alta",L14="Mayor"),AND(H14="Muy Alta",L14="Leve"),AND(H14="Muy Alta",L14="Menor"),AND(H14="Muy Alta",L14="Moderado"),AND(H14="Muy Alta",L14="Mayor")),"Alto",IF(OR(AND(H14="Muy Baja",L14="Catastrófico"),AND(H14="Baja",L14="Catastrófico"),AND(H14="Media",L14="Catastrófico"),AND(H14="Alta",L14="Catastrófico"),AND(H14="Muy Alta",L14="Catastrófico")),"Extremo","")))) -> Moderado
A15: 6 | B15: Económico y Reputacional | C15: Emitir un recibido a satisfacción de un bien y/o un servicio sin el cumplimiento de las condiciones pactadas para un beneficio particular | D15: debido al tráfico de influencia, Amiguismo, clientelismo y/o soborno | E15: Posibilidad de afectación Económico y Reputacional por la emisión de recibido a satisfacción de un bien y/o un servicio sin el cumplimiento de las condiciones pactadas para un beneficio particular ,debido al tráfico de influencia, Amiguismo, clientelismo y/o soborno | F15: Fraude Interno | G15: 10 | H15: =IF(G15<=0,"",IF(G15<=2,"Muy Baja",IF(G15<=24,"Baja",IF(G15<=500,"Media",IF(G15<=5000,"Alta","Muy Alta"))))) -> Baja | I15: =IF(H15="","",IF(H15="Muy Baja",0.2,IF(H15="Baja",0.4,IF(H15="Media",0.6,IF(H15="Alta",0.8,IF(H15="Muy Alta",1,)))))) -> 0.4 | J15: Mayor a 500 SMLMV | K15: =IF(NOT(ISERROR(MATCH(J15,'Tabla Impacto'!$B$225:$B$227,0))),'Tabla Impacto'!$F$227&"Por favor no seleccionar los criterios de impacto(Afectación Económica o presupuestal y Pérdida Reputacional)",J15) -> Mayor a 500 SMLMV | L15: =IF(OR(K15='Tabla Impacto'!$C$15,K15='Tabla Impacto'!$D$15),"Leve",IF(OR(K15='Tabla Impacto'!$C$16,K15='Tabla Impacto'!$D$16),"Menor",IF(OR(K15='Tabla Impacto'!$C$17,K15='Tabla Impacto'!$D$17),"Moderado",IF(OR(K15='Tabla Impacto'!$C$18,K15='Tabla Impacto'!$D$18),"Mayor",IF(OR(K15='Tabla Impacto'!$C$19,K15='Tabla Impacto'!$D$19),"Catastrófico",""))))) -> Catastrófico | M15: =IF(L15="","",IF(L15="Leve",0.2,IF(L15="Menor",0.4,IF(L15="Moderado",0.6,IF(L15="Mayor",0.8,IF(L15="Catastrófico",1,)))))) -> 1 | N15: =IF(OR(AND(H15="Muy Baja",L15="Leve"),AND(H15="Muy Baja",L15="Menor"),AND(H15="Baja",L15="Leve")),"Bajo",IF(OR(AND(H15="Muy baja",L15="Moderado"),AND(H15="Baja",L15="Menor"),AND(H15="Baja",L15="Moderado"),AND(H15="Media",L15="Leve"),AND(H15="Media",L15="Menor"),AND(H15="Media",L15="Moderado"),AND(H15="Alta",L15="Leve"),AND(H15="Alta",L15="Menor")),"Moderado",IF(OR(AND(H15="Muy Baja",L15="Mayor"),AND(H15="Baja",L15="Mayor"),AND(H15="Media",L15="Mayor"),AND(H15="Alta",L15="Moderado"),AND(H15="Alta",L15="Mayor"),AND(H15="Muy Alta",L15="Leve"),AND(H15="Muy Alta",L15="Menor"),AND(H15="Muy Alta",L15="Moderado"),AND(H15="Muy Alta",L15="Mayor")),"Alto",IF(OR(AND(H15="Muy Baja",L15="Catastrófico"),AND(H15="Baja",L15="Catastrófico"),AND(H15="Media",L15="Catastrófico"),AND(H15="Alta",L15="Catastrófico"),AND(H15="Muy Alta",L15="Catastrófico")),"Extremo","")))) -> Extremo
A17: *Nota: La columna referencia se sugiere para mantener el consecutivo de riesgos, así el riesgo salga del mapa no existirá otro riesgo con el mismo número. Una entidad puede ir en el riesgo 150 pero tener 70 riesgos, lo que permite llevar una traza de los riesgos. Esta información la debe administrar la Oficina Asesora de Planeación o Gerencia de Riesgos.
A18: Fuente: Adaptado de Curso Riesgo Operativo Universidad del Rosario por Dirección de Gestión y Desempeño Institucional de Función Pública, 2020.

Sheet Matriz Calor Inherente
J2: UNIVERSIDAD DE CÓRDOBA | AN2: CÓDIGO: FMAM-013 VERSIÓN: 06 EMISIÓN: 12/12/2023
J3: MATRIZ MAPA DE RIESGOS
B5: Matriz de Calor Inherente | J5: Impacto
B9: Probabilidad | E9: Muy Alta 100% | J9: =IF(AND('Mapa inherente'!$H$10="Muy Alta",'Mapa inherente'!$L$10="Leve"),CONCATENATE("R",'Mapa inherente'!$A$10),"") | L9: =IF(AND('Mapa inherente'!$H$11="Muy Alta",'Mapa inherente'!$L$11="Leve"),CONCATENATE("R",'Mapa inherente'!$A$11),"") | N9: =IF(AND('Mapa inherente'!$H$12="Muy Alta",'Mapa inherente'!$L$12="Leve"),CONCATENATE("R",'Mapa inherente'!$A$12),"") | P9: =IF(AND('Mapa inherente'!$H$10="Muy Alta",'Mapa inherente'!$L$10="Menor"),CONCATENATE("R",'Mapa inherente'!$A$10),"") | R9: =IF(AND('Mapa inherente'!$H$11="Muy Alta",'Mapa inherente'!$L$11="Menor"),CONCATENATE("R",'Mapa inherente'!$A$11),"") | T9: =IF(AND('Mapa inherente'!$H$12="Muy Alta",'Mapa inherente'!$L$12="Menor"),CONCATENATE("R",'Mapa inherente'!$A$12),"") | V9: =IF(AND('Mapa inherente'!$H$10="Muy Alta",'Mapa inherente'!$L$10="Moderado"),CONCATENATE("R",'Mapa inherente'!$A$10),"") | X9: =IF(AND('Mapa inherente'!$H$11="Muy Alta",'Mapa inherente'!$L$11="Moderado"),CONCATENATE("R",'Mapa inherente'!$A$11),"") | Z9: =IF(AND('Mapa inherente'!$H$12="Muy Alta",'Mapa inherente'!$L$12="Moderado"),CONCATENATE("R",'Mapa inherente'!$A$12),"") | AB9: =IF(AND('Mapa inherente'!$H$10="Muy Alta",'Mapa inherente'!$L$10="Mayor"),CONCATENATE("R",'Mapa inherente'!$A$10),"") | AD9: =IF(AND('Mapa inherente'!$H$11="Muy Alta",'Mapa inherente'!$L$11="Mayor"),CONCATENATE("R",'Mapa inherente'!$A$11),"") | AF9: =IF(AND('Mapa inherente'!$H$12="Muy Alta",'Mapa inherente'!$L$12="Mayor"),CONCATENATE("R",'Mapa inherente'!$A$12),"") | AH9: =IF(AND('Mapa inherente'!$H$10="Muy Alta",'Mapa inherente'!$L$10="Catastrófico"),CONCATENATE("R",'Mapa inherente'!$A$10),"") | AJ9: =IF(AND('Mapa inherente'!$H$11="Muy Alta",'Mapa inherente'!$L$11="Catastrófico"),CONCATENATE("R",'Mapa inherente'!$A$11),"") | AL9: =IF(AND('Mapa inherente'!$H$12="Muy Alta",'Mapa inherente'!$L$12="Catastrófico"),CONCATENATE("R",'Mapa inherente'!$A$12),"") | AO9: Extremo
J11: =IF(AND('Mapa inherente'!$H$13="Muy Alta",'Mapa inherente'!$L$13="Leve"),CONCATENATE("R",'Mapa inherente'!$A$13),"") | L11: =IF(AND('Mapa inherente'!$H$14="Muy Alta",'Mapa inherente'!$L$14="Leve"),CONCATENATE("R",'Mapa inherente'!$A$14),"") | N11: =IF(AND('Mapa inherente'!$H$15="Muy Alta",'Mapa inherente'!$L$15="Leve"),CONCATENATE("R",'Mapa inherente'!$A$15),"") | P11: =IF(AND('Mapa inherente'!$H$13="Muy Alta",'Mapa inherente'!$L$13="Menor"),CONCATENATE("R",'Mapa inherente'!$A$13),"") | R11: =IF(AND('Mapa inherente'!$H$14="Muy Alta",'Mapa inherente'!$L$14="Menor"),CONCATENATE("R",'Mapa inherente'!$A$14),"") | T11: =IF(AND('Mapa inherente'!$H$15="Muy Alta",'Mapa inherente'!$L$15="Menor"),CONCATENATE("R",'Mapa inherente'!$A$15),"") | V11: =IF(AND('Mapa inherente'!$H$13="Muy Alta",'Mapa inherente'!$L$13="Moderado"),CONCATENATE("R",'Mapa inherente'!$A$13),"") | X11: =IF(AND('Mapa inherente'!$H$14="Muy Alta",'Mapa inherente'!$L$14="Moderado"),CONCATENATE("R",'Mapa inherente'!$A$14),"") | Z11: =IF(AND('Mapa inherente'!$H$15="Muy Alta",'Mapa inherente'!$L$15="Moderado"),CONCATENATE("R",'Mapa inherente'!$A$15),"") | AB11: =IF(AND('Mapa inherente'!$H$13="Muy Alta",'Mapa inherente'!$L$13="Mayor"),CONCATENATE("R",'Mapa inherente'!$A$13),"") | AD11: =IF(AND('Mapa inherente'!$H$14="Muy Alta",'Mapa inherente'!$L$14="Mayor"),CONCATENATE("R",'Mapa inherente'!$A$14),"") | AF11: =IF(AND('Mapa inherente'!$H$15="Muy Alta",'Mapa inherente'!$L$15="Mayor"),CONCATENATE("R",'Mapa inherente'!$A$15),"") | AH11: =IF(AND('Mapa inherente'!$H$13="Muy Alta",'Mapa inherente'!$L$13="Catastrófico"),CONCATENATE("R",'Mapa inherente'!$A$13),"") | AJ11: =IF(AND('Mapa inherente'!$H$14="Muy Alta",'Mapa inherente'!$L$14="Catastrófico"),CONCATENATE("R",'Mapa inherente'!$A$14),"") | AL11: =IF(AND('Mapa inherente'!$H$15="Muy Alta",'Mapa inherente'!$L$15="Catastrófico"),CONCATENATE("R",'Mapa inherente'!$A$15),"")
E15: Alta 80% | J15: =IF(AND('Mapa inherente'!$H$10="Alta",'Mapa inherente'!$L$10="Leve"),CONCATENATE("R",'Mapa inherente'!$A$10),"") | L15: =IF(AND('Mapa inherente'!$H$11="Alta",'Mapa inherente'!$L$11="Leve"),CONCATENATE("R",'Mapa inherente'!$A$11),"") | N15: =IF(AND('Mapa inherente'!$H$12="Alta",'Mapa inherente'!$L$12="Leve"),CONCATENATE("R",'Mapa inherente'!$A$12),"") | P15: =IF(AND('Mapa inherente'!$H$10="Alta",'Mapa inherente'!$L$10="Menor"),CONCATENATE("R",'Mapa inherente'!$A$10),"") | R15: =IF(AND('Mapa inherente'!$H$11="Alta",'Mapa inherente'!$L$11="Menor"),CONCATENATE("R",'Mapa inherente'!$A$11),"") | T15: =IF(AND('Mapa inherente'!$H$12="Alta",'Mapa inherente'!$L$12="Menor"),CONCATENATE("R",'Mapa inherente'!$A$12),"") | V15: =IF(AND('Mapa inherente'!$H$10="Alta",'Mapa inherente'!$L$10="Moderado"),CONCATENATE("R",'Mapa inherente'!$A$10),"") | X15: =IF(AND('Mapa inherente'!$H$11="Alta",'Mapa inherente'!$L$11="Moderado"),CONCATENATE("R",'Mapa inherente'!$A$11),"") | Z15: =IF(AND('Mapa inherente'!$H$12="Alta",'Mapa inherente'!$L$12="Moderado"),CONCATENATE("R",'Mapa inherente'!$A$12),"") | AB15: =IF(AND('Mapa inherente'!$H$10="Alta",'Mapa inherente'!$L$10="Mayor"),CONCATENATE("R",'Mapa inherente'!$A$10),"") | AD15: =IF(AND('Mapa inherente'!$H$11="Alta",'Mapa inherente'!$L$11="Mayor"),CONCATENATE("R",'Mapa inherente'!$A$11),"") | AF15: =IF(AND('Mapa inherente'!$H$12="Alta",'Mapa inherente'!$L$12="Mayor"),CONCATENATE("R",'Mapa inherente'!$A$12),"") | AH15: =IF(AND('Mapa inherente'!$H$10="Alta",'Mapa inherente'!$L$10="Catastrófico"),CONCATENATE("R",'Mapa inherente'!$A$10),"") | AJ15: =IF(AND('Mapa inherente'!$H$11="Alta",'Mapa inherente'!$L$11="Catastrófico"),CONCATENATE("R",'Mapa inherente'!$A$11),"") | AL15: =IF(AND('Mapa inherente'!$H$12="Alta",'Mapa inherente'!$L$12="Catastrófico"),CONCATENATE("R",'Mapa inherente'!$A$12),"") | AO15: Alto
J17: =IF(AND('Mapa inherente'!$H$13="Alta",'Mapa inherente'!$L$13="Leve"),CONCATENATE("R",'Mapa inherente'!$A$13),"") | L17: =IF(AND('Mapa inherente'!$H$14="Alta",'Mapa inherente'!$L$14="Leve"),CONCATENATE("R",'Mapa inherente'!$A$14),"") | N17: =IF(AND('Mapa inherente'!$H$15="Alta",'Mapa inherente'!$L$15="Leve"),CONCATENATE("R",'Mapa inherente'!$A$15),"") | P17: =IF(AND('Mapa inherente'!$H$13="Alta",'Mapa inherente'!$L$13="Menor"),CONCATENATE("R",'Mapa inherente'!$A$13),"") | R17: =IF(AND('Mapa inherente'!$H$14="Alta",'Mapa inherente'!$L$14="Menor"),CONCATENATE("R",'Mapa inherente'!$A$14),"") | T17: =IF(AND('Mapa inherente'!$H$15="Alta",'Mapa inherente'!$L$15="Menor"),CONCATENATE("R",'Mapa inherente'!$A$15),"") | V17: =IF(AND('Mapa inherente'!$H$13="Alta",'Mapa inherente'!$L$13="Moderado"),CONCATENATE("R",'Mapa inherente'!$A$13),"") | X17: =IF(AND('Mapa inherente'!$H$14="Alta",'Mapa inherente'!$L$14="Moderado"),CONCATENATE("R",'Mapa inherente'!$A$14),"") | Z17: =IF(AND('Mapa inherente'!$H$15="Alta",'Mapa inherente'!$L$15="Moderado"),CONCATENATE("R",'Mapa inherente'!$A$15),"") | AB17: =IF(AND('Mapa inherente'!$H$13="Alta",'Mapa inherente'!$L$13="Mayor"),CONCATENATE("R",'Mapa inherente'!$A$13),"") | AD17: =IF(AND('Mapa inherente'!$H$14="Alta",'Mapa inherente'!$L$14="Mayor"),CONCATENATE("R",'Mapa inherente'!$A$14),"") | AF17: =IF(AND('Mapa inherente'!$H$15="Alta",'Mapa inherente'!$L$15="Mayor"),CONCATENATE("R",'Mapa inherente'!$A$15),"") | AH17: =IF(AND('Mapa inherente'!$H$13="Alta",'Mapa inherente'!$L$13="Catastrófico"),CONCATENATE("R",'Mapa inherente'!$A$13),"") | AJ17: =IF(AND('Mapa inherente'!$H$14="Alta",'Mapa inherente'!$L$14="Catastrófico"),CONCATENATE("R",'Mapa inherente'!$A$14),"") | AL17: =IF(AND('Mapa inherente'!$H$15="Alta",'Mapa inherente'!$L$15="Catastrófico"),CONCATENATE("R",'Mapa inherente'!$A$15),"")
E21: Media 60% | J21: =IF(AND('Mapa inherente'!$H$10="Media",'Mapa inherente'!$L$10="Leve"),CONCATENATE("R",'Mapa inherente'!$A$10),"") | L21: =IF(AND('Mapa inherente'!$H$11="Media",'Mapa inherente'!$L$11="Leve"),CONCATENATE("R",'Mapa inherente'!$A$11),"") | N21: =IF(AND('Mapa inherente'!$H$12="Media",'Mapa inherente'!$L$12="Leve"),CONCATENATE("R",'Mapa inherente'!$A$12),"") | P21: =IF(AND('Mapa inherente'!$H$10="Media",'Mapa inherente'!$L$10="Menor"),CONCATENATE("R",'Mapa inherente'!$A$10),"") | R21: =IF(AND('Mapa inherente'!$H$11="Media",'Mapa inherente'!$L$11="Menor"),CONCATENATE("R",'Mapa inherente'!$A$11),"") | T21: =IF(AND('Mapa inherente'!$H$12="Media",'Mapa inherente'!$L$12="Menor"),CONCATENATE("R",'Mapa inherente'!$A$12),"") | V21: =IF(AND('Mapa inherente'!$H$10="Media",'Mapa inherente'!$L$10="Moderado"),CONCATENATE("R",'Mapa inherente'!$A$10),"") | X21: =IF(AND('Mapa inherente'!$H$11="Media",'Mapa inherente'!$L$11="Moderado"),CONCATENATE("R",'Mapa inherente'!$A$11),"") | Z21: =IF(AND('Mapa inherente'!$H$12="Media",'Mapa inherente'!$L$12="Moderado"),CONCATENATE("R",'Mapa inherente'!$A$12),"") | AB21: =IF(AND('Mapa inherente'!$H$10="Media",'Mapa inherente'!$L$10="Mayor"),CONCATENATE("R",'Mapa inherente'!$A$10),"") | AD21: =IF(AND('Mapa inherente'!$H$11="Media",'Mapa inherente'!$L$11="Mayor"),CONCATENATE("R",'Mapa inherente'!$A$11),"") | AF21: =IF(AND('Mapa inherente'!$H$12="Media",'Mapa inherente'!$L$12="Mayor"),CONCATENATE("R",'Mapa inherente'!$A$12),"") | AH21: =IF(AND('Mapa inherente'!$H$10="Media",'Mapa inherente'!$L$10="Catastrófico"),CONCATENATE("R",'Mapa inherente'!$A$10),"") | AJ21: =IF(AND('Mapa inherente'!$H$11="Media",'Mapa inherente'!$L$11="Catastrófico"),CONCATENATE("R",'Mapa inherente'!$A$11),"") | AL21: =IF(AND('Mapa inherente'!$H$12="Media",'Mapa inherente'!$L$12="Catastrófico"),CONCATENATE("R",'Mapa inherente'!$A$12),"") | AO21: Moderado
J23: =IF(AND('Mapa inherente'!$H$13="Media",'Mapa inherente'!$L$13="Leve"),CONCATENATE("R",'Mapa inherente'!$A$13),"") | L23: =IF(AND('Mapa inherente'!$H$14="Media",'Mapa inherente'!$L$14="Leve"),CONCATENATE("R",'Mapa inherente'!$A$14),"") | N23: =IF(AND('Mapa inherente'!$H$15="Media",'Mapa inherente'!$L$15="Leve"),CONCATENATE("R",'Mapa inherente'!$A$15),"") | P23: =IF(AND('Mapa inherente'!$H$13="Media",'Mapa inherente'!$L$13="Menor"),CONCATENATE("R",'Mapa inherente'!$A$13),"") | R23: =IF(AND('Mapa inherente'!$H$14="Media",'Mapa inherente'!$L$14="Menor"),CONCATENATE("R",'Mapa inherente'!$A$14),"") | T23: =IF(AND('Mapa inherente'!$H$15="Media",'Mapa inherente'!$L$15="Menor"),CONCATENATE("R",'Mapa inherente'!$A$15),"") | V23: =IF(AND('Mapa inherente'!$H$13="Media",'Mapa inherente'!$L$13="Moderado"),CONCATENATE("R",'Mapa inherente'!$A$13),"") | X23: =IF(AND('Mapa inherente'!$H$14="Media",'Mapa inherente'!$L$14="Moderado"),CONCATENATE("R",'Mapa inherente'!$A$14),"") -> R5 | Z23: =IF(AND('Mapa inherente'!$H$15="Media",'Mapa inherente'!$L$15="Moderado"),CONCATENATE("R",'Mapa inherente'!$A$15),"") | AB23: =IF(AND('Mapa inherente'!$H$13="Media",'Mapa inherente'!$L$13="Mayor"),CONCATENATE("R",'Mapa inherente'!$A$13),"") | AD23: =IF(AND('Mapa inherente'!$H$14="Media",'Mapa inherente'!$L$14="Mayor"),CONCATENATE("R",'Mapa inherente'!$A$14),"") | AF23: =IF(AND('Mapa inherente'!$H$15="Media",'Mapa inherente'!$L$15="Mayor"),CONCATENATE("R",'Mapa inherente'!$A$15),"") | AH23: =IF(AND('Mapa inherente'!$H$13="Media",'Mapa inherente'!$L$13="Catastrófico"),CONCATENATE("R",'Mapa inherente'!$A$13),"") | AJ23: =IF(AND('Mapa inherente'!$H$14="Media",'Mapa inherente'!$L$14="Catastrófico"),CONCATENATE("R",'Mapa inherente'!$A$14),"") | AL23: =IF(AND('Mapa inherente'!$H$15="Media",'Mapa inherente'!$L$15="Catastrófico"),CONCATENATE("R",'Mapa inherente'!$A$15),"")
E27: Baja 40% | J27: =IF(AND('Mapa inherente'!$H$10="Baja",'Mapa inherente'!$L$10="Leve"),CONCATENATE("R",'Mapa inherente'!$A$10),"") | L27: =IF(AND('Mapa inherente'!$H$11="Baja",'Mapa inherente'!$L$11="Leve"),CONCATENATE("R",'Mapa inherente'!$A$11),"") | N27: =IF(AND('Mapa inherente'!$H$12="Baja",'Mapa inherente'!$L$12="Leve"),CONCATENATE("R",'Mapa inherente'!$A$12),"") | P27: =IF(AND('Mapa inherente'!$H$10="Baja",'Mapa inherente'!$L$10="Menor"),CONCATENATE("R",'Mapa inherente'!$A$10),"") | R27: =IF(AND('Mapa inherente'!$H$11="Baja",'Mapa inherente'!$L$11="Menor"),CONCATENATE("R",'Mapa inherente'!$A$11),"") | T27: =IF(AND('Mapa inherente'!$H$12="Baja",'Mapa inherente'!$L$12="Menor"),CONCATENATE("R",'Mapa inherente'!$A$12),"") | V27: =IF(AND('Mapa inherente'!$H$10="Baja",'Mapa inherente'!$L$10="Moderado"),CONCATENATE("R",'Mapa inherente'!$A$10),"") | X27: =IF(AND('Mapa inherente'!$H$11="Baja",'Mapa inherente'!$L$11="Moderado"),CONCATENATE("R",'Mapa inherente'!$A$11),"") | Z27: =IF(AND('Mapa inherente'!$H$12="Baja",'Mapa inherente'!$L$12="Moderado"),CONCATENATE("R",'Mapa inherente'!$A$12),"") | AB27: =IF(AND('Mapa inherente'!$H$10="Baja",'Mapa inherente'!$L$10="Mayor"),CONCATENATE("R",'Mapa inherente'!$A$10),"") | AD27: =IF(AND('Mapa inherente'!$H$11="Baja",'Mapa inherente'!$L$11="Mayor"),CONCATENATE("R",'Mapa inherente'!$A$11),"") | AF27: =IF(AND('Mapa inherente'!$H$12="Baja",'Mapa inherente'!$L$12="Mayor"),CONCATENATE("R",'Mapa inherente'!$A$12),"") | AH27: =IF(AND('Mapa inherente'!$H$10="Baja",'Mapa inherente'!$L$10="Catastrófico"),CONCATENATE("R",'Mapa inherente'!$A$10),"") | AJ27: =IF(AND('Mapa inherente'!$H$11="Baja",'Mapa inherente'!$L$11="Catastrófico"),CONCATENATE("R",'Mapa inherente'!$A$11),"") | AL27: =IF(AND('Mapa inherente'!$H$12="Baja",'Mapa inherente'!$L$12="Catastrófico"),CONCATENATE("R",'Mapa inherente'!$A$12),"") | AO27: Bajo
J29: =IF(AND('Mapa inherente'!$H$13="Baja",'Mapa inherente'!$L$13="Leve"),CONCATENATE("R",'Mapa inherente'!$A$13),"") -> R4 | L29: =IF(AND('Mapa inherente'!$H$14="Baja",'Mapa inherente'!$L$14="Leve"),CONCATENATE("R",'Mapa inherente'!$A$14),"") | N29: =IF(AND('Mapa inherente'!$H$15="Baja",'Mapa inherente'!$L$15="Leve"),CONCATENATE("R",'Mapa inherente'!$A$15),"") | P29: =IF(AND('Mapa inherente'!$H$13="Baja",'Mapa inherente'!$L$13="Menor"),CONCATENATE("R",'Mapa inherente'!$A$13),"") | R29: =IF(AND('Mapa inherente'!$H$14="Baja",'Mapa inherente'!$L$14="Menor"),CONCATENATE("R",'Mapa inherente'!$A$14),"") | T29: =IF(AND('Mapa inherente'!$H$15="Baja",'Mapa inherente'!$L$15="Menor"),CONCATENATE("R",'Mapa inherente'!$A$15),"") | V29: =IF(AND('Mapa inherente'!$H$13="Baja",'Mapa inherente'!$L$13="Moderado"),CONCATENATE("R",'Mapa inherente'!$A$13),"") | X29: =IF(AND('Mapa inherente'!$H$14="Baja",'Mapa inherente'!$L$14="Moderado"),CONCATENATE("R",'Mapa inherente'!$A$14),"") | Z29: =IF(AND('Mapa inherente'!$H$15="Baja",'Mapa inherente'!$L$15="Moderado"),CONCATENATE("R",'Mapa inherente'!$A$15),"") | AB29: =IF(AND('Mapa inherente'!$H$13="Baja",'Mapa inherente'!$L$13="Mayor"),CONCATENATE("R",'Mapa inherente'!$A$13),"") | AD29: =IF(AND('Mapa inherente'!$H$14="Baja",'Mapa inherente'!$L$14="Mayor"),CONCATENATE("R",'Mapa inherente'!$A$14),"") | AF29: =IF(AND('Mapa inherente'!$H$15="Baja",'Mapa inherente'!$L$15="Mayor"),CONCATENATE("R",'Mapa inherente'!$A$15),"") | AH29: =IF(AND('Mapa inherente'!$H$13="Baja",'Mapa inherente'!$L$13="Catastrófico"),CONCATENATE("R",'Mapa inherente'!$A$13),"") | AJ29: =IF(AND('Mapa inherente'!$H$14="Baja",'Mapa inherente'!$L$14="Catastrófico"),CONCATENATE("R",'Mapa inherente'!$A$14),"") | AL29: =IF(AND('Mapa inherente'!$H$15="Baja",'Mapa inherente'!$L$15="Catastrófico"),CONCATENATE("R",'Mapa inherente'!$A$15),"") -> R6
E33: Muy Baja 20% | J33: =IF(AND('Mapa inherente'!$H$10="Muy Baja",'Mapa inherente'!$L$10="Leve"),CONCATENATE("R",'Mapa inherente'!$A$10),"") | L33: =IF(AND('Mapa inherente'!$H$11="Muy Baja",'Mapa inherente'!$L$11="Leve"),CONCATENATE("R",'Mapa inherente'!$A$11),"") | N33: =IF(AND('Mapa inherente'!$H$12="Muy Baja",'Mapa inherente'!$L$12="Leve"),CONCATENATE("R",'Mapa inherente'!$A$12),"") | P33: =IF(AND('Mapa inherente'!$H$10="Muy Baja",'Mapa inherente'!$L$10="Menor"),CONCATENATE("R",'Mapa inherente'!$A$10),"") | R33: =IF(AND('Mapa inherente'!$H$11="Muy Baja",'Mapa inherente'!$L$11="Menor"),CONCATENATE("R",'Mapa inherente'!$A$11),"") -> R2 | T33: =IF(AND('Mapa inherente'!$H$12="Muy Baja",'Mapa inherente'!$L$12="Menor"),CONCATENATE("R",'Mapa inherente'!$A$12),"") | V33: =IF(AND('Mapa inherente'!$H$10="Muy Baja",'Mapa inherente'!$L$10="Moderado"),CONCATENATE("R",'Mapa inherente'!$A$10),"") -> R1 | X33: =IF(AND('Mapa inherente'!$H$11="Muy Baja",'Mapa inherente'!$L$11="Moderado"),CONCATENATE("R",'Mapa inherente'!$A$11),"") | Z33: =IF(AND('Mapa inherente'!$H$12="Muy Baja",'Mapa inherente'!$L$12="Moderado"),CONCATENATE("R",'Mapa inherente'!$A$12),"") -> R3 | AB33: =IF(AND('Mapa inherente'!$H$10="Muy Baja",'Mapa inherente'!$L$10="Mayor"),CONCATENATE("R",'Mapa inherente'!$A$10),"") | AD33: =IF(AND('Mapa inherente'!$H$11="Muy Baja",'Mapa inherente'!$L$11="Mayor"),CONCATENATE("R",'Mapa inherente'!$A$11),"") | AF33: =IF(AND('Mapa inherente'!$H$12="Muy Baja",'Mapa inherente'!$L$12="Mayor"),CONCATENATE("R",'Mapa inherente'!$A$12),"") | AH33: =IF(AND('Mapa inherente'!$H$10="Muy Baja",'Mapa inherente'!$L$10="Catastrófico"),CONCATENATE("R",'Mapa inherente'!$A$10),"") | AJ33: =IF(AND('Mapa inherente'!$H$11="Muy Baja",'Mapa inherente'!$L$11="Catastrófico"),CONCATENATE("R",'Mapa inherente'!$A$11),"") | AL33: =IF(AND('Mapa inherente'!$H$12="Muy Baja",'Mapa inherente'!$L$12="Catastrófico"),CONCATENATE("R",'Mapa inherente'!$A$12),"")
J35: =IF(AND('Mapa inherente'!$H$13="Muy Baja",'Mapa inherente'!$L$13="Leve"),CONCATENATE("R",'Mapa inherente'!$A$13),"") | L35: =IF(AND('Mapa inherente'!$H$14="Muy Baja",'Mapa inherente'!$L$14="Leve"),CONCATENATE("R",'Mapa inherente'!$A$14),"") | N35: =IF(AND('Mapa inherente'!$H$15="Muy Baja",'Mapa inherente'!$L$15="Leve"),CONCATENATE("R",'Mapa inherente'!$A$15),"") | P35: =IF(AND('Mapa inherente'!$H$13="Muy Baja",'Mapa inherente'!$L$13="Menor"),CONCATENATE("R",'Mapa inherente'!$A$13),"") | R35: =IF(AND('Mapa inherente'!$H$14="Muy Baja",'Mapa inherente'!$L$14="Menor"),CONCATENATE("R",'Mapa inherente'!$A$14),"") | T35: =IF(AND('Mapa inherente'!$H$15="Muy Baja",'Mapa inherente'!$L$15="Menor"),CONCATENATE("R",'Mapa inherente'!$A$15),"") | V35: =IF(AND('Mapa inherente'!$H$13="Muy Baja",'Mapa inherente'!$L$13="Moderado"),CONCATENATE("R",'Mapa inherente'!$A$13),"") | X35: =IF(AND('Mapa inherente'!$H$14="Muy Baja",'Mapa inherente'!$L$14="Moderado"),CONCATENATE("R",'Mapa inherente'!$A$14),"") | Z35: =IF(AND('Mapa inherente'!$H$15="Muy Baja",'Mapa inherente'!$L$15="Moderado"),CONCATENATE("R",'Mapa inherente'!$A$15),"") | AB35: =IF(AND('Mapa inherente'!$H$13="Muy Baja",'Mapa inherente'!$L$13="Mayor"),CONCATENATE("R",'Mapa inherente'!$A$13),"") | AD35: =IF(AND('Mapa inherente'!$H$14="Muy Baja",'Mapa inherente'!$L$14="Mayor"),CONCATENATE("R",'Mapa inherente'!$A$14),"") | AF35: =IF(AND('Mapa inherente'!$H$15="Muy Baja",'Mapa inherente'!$L$15="Mayor"),CONCATENATE("R",'Mapa inherente'!$A$15),"") | AH35: =IF(AND('Mapa inherente'!$H$13="Muy Baja",'Mapa inherente'!$L$13="Catastrófico"),CONCATENATE("R",'Mapa inherente'!$A$13),"") | AJ35: =IF(AND('Mapa inherente'!$H$14="Muy Baja",'Mapa inherente'!$L$14="Catastrófico"),CONCATENATE("R",'Mapa inherente'!$A$14),"") | AL35: =IF(AND('Mapa inherente'!$H$15="Muy Baja",'Mapa inherente'!$L$15="Catastrófico"),CONCATENATE("R",'Mapa inherente'!$A$15),"")
J39: Leve 20% | P39: Menor 40% | V39: Moderado 60% | AB39: Mayor 80% | AH39: Catastrófico 100%

Sheet Hoja de controles
B1: UNIVERSIDAD DE CÓRDOBA | S1: CÓDIGO: FMAM-013 VERSIÓN: 06 EMISIÓN: 12/12/2023
B2: MATRIZ MAPA DE RIESGOS
A7: Ref. Riesgo - Seleccione un valor | B7: Descripción Riesgo - No editable | C7: Riesgo Inherente - No editable | D7: Valoración de controles | O7: Nivel de riesgo residual
D8: No. Control - No editable | E8: Descripción del Control | F8: Periodicidad Ejemplo: Diario, Semanal, Mensual, etc. | G8: Evidencia Ejemplo: Informe de revisión, Acta de reunión. | H8: Atributos | N8: Componente que afecta | O8: Probabilidad Residual | P8: Zona probabilidad residual | Q8: Impacto residual | R8: Zona Impacto Residual | S8: Zona de Riesgo Final | T8: Tratamiento
H9: Tipo | I9: Implementación | J9: Documentación | K9: Frecuencia | L9: Evidencia | M9: Nivel de afectación a riesgo
A10: 1 | B10: =IF(A10="","",VLOOKUP(A10,'Mapa inherente'!$A$10:$E$15,5,FALSE)) -> Posibilidad de afectación reputacional porque los programas de Bienestar no favorecen la adaptación de estudiantes provenientes de poblaciones vulnerables heterogeneas debido a que no se cuenta con la identificación de necesidades y requerimientos de dicha población | C10: =IF(A10="","",VLOOKUP(A10,'Mapa inherente'!$A$10:$N$15,14,FALSE)) -> Moderado | D10: =IF(B10="","",1) -> 1 | E10: El profesional responsable del área de investigación y gestión de la calidad, compilará anualmente la información producto del censo para la Caracterización de la población vulnerable y heterogénea de los estudiantes de pregrado mediante encuesta aplicada a los estudiantes en su primer ingreso a la institución | F10: Anual | G10: Informe de Caracterización | H10: Preventivo | I10: Manual | J10: Documentado | K10: Aleatoria | L10: Con Registro | M10: =IF(AND(H10="Preventivo",I10="Automático"),"50%",IF(AND(H10="Preventivo",I10="Manual"),"40%",IF(AND(H10="Detectivo",I10="Automático"),"40%",IF(AND(H10="Detectivo",I10="Manual"),"30%",IF(AND(H10="Correctivo",I10="Automático"),"35%",IF(AND(H10="Correctivo",I10="Manual"),"25%","")))))) -> 40% | N10: =IF(OR(H10="Preventivo",H10="Detectivo"),"Probabilidad",IF(H10="Correctivo","Impacto","")) -> Probabilidad | O10: =IF(A10="","",IF(D10=1,IFERROR(IF(N10="Probabilidad",(VLOOKUP(A10,'Mapa inherente'!$A$10:$M$15,9,FALSE)-(VLOOKUP(A10,'Mapa inherente'!$A$10:$M$15,9,FALSE)*M10)),IF(N10="Impacto",VLOOKUP(A10,'Mapa inherente'!$A$10:$M$15,9,FALSE),"")),""), IFERROR(IF(N10="Probabilidad",(O9-(O9)*M10),O9),""))) -> 0.12 | P10: =IFERROR(IF(O10="","",IF(O10<=0.2,"Muy Baja",IF(O10<=0.4,"Baja",IF(O10<=0.6,"Media",IF(O10<=0.8,"Alta","Muy Alta"))))),"") -> Muy Baja | Q10: =IF(A10="","",IF(D10=1,IFERROR(IF(N10="Impacto",(VLOOKUP(A10,'Mapa inherente'!$A$10:$M$15,13,FALSE)-(VLOOKUP(A10,'Mapa inherente'!$A$10:$M$15,13,FALSE)*M10)),IF(N10="Probabilidad",VLOOKUP(A10,'Mapa inherente'!$A$10:$M$15,13,FALSE),"")),""), IFERROR(IF(N10="Impacto",(Q9-(Q9)*M10),Q9),""))) -> 0.6 | R10: =IFERROR(IF(Q10="","",IF(Q10<=0.2,"Leve",IF(Q10<=0.4,"Menor",IF(Q10<=0.6,"Moderado",IF(Q10<=0.8,"Mayor","Catastrófico"))))),"") -> Moderado | S10: =IFERROR(IF(OR(AND(P10="Muy Baja",R10="Leve"),AND(P10="Muy Baja",R10="Menor"),AND(P10="Baja",R10="Leve")),"Bajo",IF(OR(AND(P10="Muy baja",R10="Moderado"),AND(P10="Baja",R10="Menor"),AND(P10="Baja",R10="Moderado"),AND(P10="Media",R10="Leve"),AND(P10="Media",R10="Menor"),AND(P10="Media",R10="Moderado"),AND(P10="Alta",R10="Leve"),AND(P10="Alta",R10="Menor")),"Moderado",IF(OR(AND(P10="Muy Baja",R10="Mayor"),AND(P10="Baja",R10="Mayor"),AND(P10="Media",R10="Mayor"),AND(P10="Alta",R10="Moderado"),AND(P10="Alta",R10="Mayor"),AND(P10="Muy Alta",R10="Leve"),AND(P10="Muy Alta",R10="Menor"),AND(P10="Muy Alta",R10="Moderado"),AND(P10="Muy Alta",R10="Mayor")),"Alto",IF(OR(AND(P10="Muy Baja",R10="Catastrófico"),AND(P10="Baja",R10="Catastrófico"),AND(P10="Media",R10="Catastrófico"),AND(P10="Alta",R10="Catastrófico"),AND(P10="Muy Alta",R10="Catastrófico")),"Extremo","")))),"") -> Moderado | T10: Reducir (mitigar)
A11: 1 | B11: =IF(A11="","",VLOOKUP(A11,'Mapa inherente'!$A$10:$E$15,5,FALSE)) -> Posibilidad de afectación reputacional porque los programas de Bienestar no favorecen la adaptación de estudiantes provenientes de poblaciones vulnerables heterogeneas debido a que no se cuenta con la identificación de necesidades y requerimientos de dicha población | C11: =IF(A11="","",VLOOKUP(A11,'Mapa inherente'!$A$10:$N$15,14,FALSE)) -> Moderado | D11: =IF(B11="","",IF(B11=B10,D10+1,1)) -> 2 | E11: Desarrollo de actividades acordes a las necesidades y requerimientos identificados en la caracterización de la población vulnerable y heterogenea, implementadas en las diferentes áreas de servicio de Bienestar Institucional, con base en la viabilidad financiera de los mismos. | F11: Semestral | G11: Formatos del proceso, plantillas de cargue de información e informes | H11: Correctivo | I11: Manual | J11: Documentado | K11: Continua | L11: Con Registro | M11: =IF(AND(H11="Preventivo",I11="Automático"),"50%",IF(AND(H11="Preventivo",I11="Manual"),"40%",IF(AND(H11="Detectivo",I11="Automático"),"40%",IF(AND(H11="Detectivo",I11="Manual"),"30%",IF(AND(H11="Correctivo",I11="Automático"),"35%",IF(AND(H11="Correctivo",I11="Manual"),"25%","")))))) -> 25% | N11: =IF(OR(H11="Preventivo",H11="Detectivo"),"Probabilidad",IF(H11="Correctivo","Impacto","")) -> Impacto | O11: =IF(A11="","",IF(D11=1,IFERROR(IF(N11="Probabilidad",(VLOOKUP(A11,'Mapa inherente'!$A$10:$M$15,9,FALSE)-(VLOOKUP(A11,'Mapa inherente'!$A$10:$M$15,9,FALSE)*M11)),IF(N11="Impacto",VLOOKUP(A11,'Mapa inherente'!$A$10:$M$15,9,FALSE),"")),""), IFERROR(IF(N11="Probabilidad",(O10-(O10)*M11),O10),""))) -> 0.12 | P11: =IFERROR(IF(O11="","",IF(O11<=0.2,"Muy Baja",IF(O11<=0.4,"Baja",IF(O11<=0.6,"Media",IF(O11<=0.8,"Alta","Muy Alta"))))),"") -> Muy Baja | Q11: =IF(A11="","",IF(D11=1,IFERROR(IF(N11="Impacto",(VLOOKUP(A11,'Mapa inherente'!$A$10:$M$15,13,FALSE)-(VLOOKUP(A11,'Mapa inherente'!$A$10:$M$15,13,FALSE)*M11)),IF(N11="Probabilidad",VLOOKUP(A11,'Mapa inherente'!$A$10:$M$15,13,FALSE),"")),""), IFERROR(IF(N11="Impacto",(Q10-(Q10)*M11),Q10),""))) -> 0.45 | R11: =IFERROR(IF(Q11="","",IF(Q11<=0.2,"Leve",IF(Q11<=0.4,"Menor",IF(Q11<=0.6,"Moderado",IF(Q11<=0.8,"Mayor","Catastrófico"))))),"") -> Moderado | S11: =IFERROR(IF(OR(AND(P11="Muy Baja",R11="Leve"),AND(P11="Muy Baja",R11="Menor"),AND(P11="Baja",R11="Leve")),"Bajo",IF(OR(AND(P11="Muy baja",R11="Moderado"),AND(P11="Baja",R11="Menor"),AND(P11="Baja",R11="Moderado"),AND(P11="Media",R11="Leve"),AND(P11="Media",R11="Menor"),AND(P11="Media",R11="Moderado"),AND(P11="Alta",R11="Leve"),AND(P11="Alta",R11="Menor")),"Moderado",IF(OR(AND(P11="Muy Baja",R11="Mayor"),AND(P11="Baja",R11="Mayor"),AND(P11="Media",R11="Mayor"),AND(P11="Alta",R11="Moderado"),AND(P11="Alta",R11="Mayor"),AND(P11="Muy Alta",R11="Leve"),AND(P11="Muy Alta",R11="Menor"),AND(P11="Muy Alta",R11="Moderado"),AND(P11="Muy Alta",R11="Mayor")),"Alto",IF(OR(AND(P11="Muy Baja",R11="Catastrófico"),AND(P11="Baja",R11="Catastrófico"),AND(P11="Media",R11="Catastrófico"),AND(P11="Alta",R11="Catastrófico"),AND(P11="Muy Alta",R11="Catastrófico")),"Extremo","")))),"") -> Moderado | T11: Reducir (mitigar)
A12: 1 | B12: =IF(A12="","",VLOOKUP(A12,'Mapa inherente'!$A$10:$E$15,5,FALSE)) -> Posibilidad de afectación reputacional porque los programas de Bienestar no favorecen la adaptación de estudiantes provenientes de poblaciones vulnerables heterogeneas debido a que no se cuenta con la identificación de necesidades y requerimientos de dicha población | C12: =IF(A12="","",VLOOKUP(A12,'Mapa inherente'!$A$10:$N$15,14,FALSE)) -> Moderado | D12: =IF(B12="","",IF(B12=B11,D11+1,1)) -> 3 | E12: Comunicar o notificar a otros proceso de la Universidad (Docencia, Planeación y desarrollo, logistica, Talento Humano y comunicaciones) las necesidades y requerimientos identificados en la población vulnerable y heterogenea de la Universidad, según su pertinencia. | F12: Semestral | G12: Comunicaciones Internas, Correos electronicos | H12: Correctivo | I12: Manual | J12: Documentado | K12: Continua | L12: Con Registro | M12: =IF(AND(H12="Preventivo",I12="Automático"),"50%",IF(AND(H12="Preventivo",I12="Manual"),"40%",IF(AND(H12="Detectivo",I12="Automático"),"40%",IF(AND(H12="Detectivo",I12="Manual"),"30%",IF(AND(H12="Correctivo",I12="Automático"),"35%",IF(AND(H12="Correctivo",I12="Manual"),"25%","")))))) -> 25% | N12: =IF(OR(H12="Preventivo",H12="Detectivo"),"Probabilidad",IF(H12="Correctivo","Impacto","")) -> Impacto | O12: =IF(A12="","",IF(D12=1,IFERROR(IF(N12="Probabilidad",(VLOOKUP(A12,'Mapa inherente'!$A$10:$M$15,9,FALSE)-(VLOOKUP(A12,'Mapa inherente'!$A$10:$M$15,9,FALSE)*M12)),IF(N12="Impacto",VLOOKUP(A12,'Mapa inherente'!$A$10:$M$15,9,FALSE),"")),""), IFERROR(IF(N12="Probabilidad",(O11-(O11)*M12),O11),""))) -> 0.12 | P12: =IFERROR(IF(O12="","",IF(O12<=0.2,"Muy Baja",IF(O12<=0.4,"Baja",IF(O12<=0.6,"Media",IF(O12<=0.8,"Alta","Muy Alta"))))),"") -> Muy Baja | Q12: =IF(A12="","",IF(D12=1,IFERROR(IF(N12="Impacto",(VLOOKUP(A12,'Mapa inherente'!$A$10:$M$15,13,FALSE)-(VLOOKUP(A12,'Mapa inherente'!$A$10:$M$15,13,FALSE)*M12)),IF(N12="Probabilidad",VLOOKUP(A12,'Mapa inherente'!$A$10:$M$15,13,FALSE),"")),""), IFERROR(IF(N12="Impacto",(Q11-(Q11)*M12),Q11),""))) -> 0.3375 | R12: =IFERROR(IF(Q12="","",IF(Q12<=0.2,"Leve",IF(Q12<=0.4,"Menor",IF(Q12<=0.6,"Moderado",IF(Q12<=0.8,"Mayor","Catastrófico"))))),"") -> Menor | S12: =IFERROR(IF(OR(AND(P12="Muy Baja",R12="Leve"),AND(P12="Muy Baja",R12="Menor"),AND(P12="Baja",R12="Leve")),"Bajo",IF(OR(AND(P12="Muy baja",R12="Moderado"),AND(P12="Baja",R12="Menor"),AND(P12="Baja",R12="Moderado"),AND(P12="Media",R12="Leve"),AND(P12="Media",R12="Menor"),AND(P12="Media",R12="Moderado"),AND(P12="Alta",R12="Leve"),AND(P12="Alta",R12="Menor")),"Moderado",IF(OR(AND(P12="Muy Baja",R12="Mayor"),AND(P12="Baja",R12="Mayor"),AND(P12="Media",R12="Mayor"),AND(P12="Alta",R12="Moderado"),AND(P12="Alta",R12="Mayor"),AND(P12="Muy Alta",R12="Leve"),AND(P12="Muy Alta",R12="Menor"),AND(P12="Muy Alta",R12="Moderado"),AND(P12="Muy Alta",R12="Mayor")),"Alto",IF(OR(AND(P12="Muy Baja",R12="Catastrófico"),AND(P12="Baja",R12="Catastrófico"),AND(P12="Media",R12="Catastrófico"),AND(P12="Alta",R12="Catastrófico"),AND(P12="Muy Alta",R12="Catastrófico")),"Extremo","")))),"") -> Bajo | T12: Aceptar
A13: 2 | B13: =IF(A13="","",VLOOKUP(A13,'Mapa inherente'!$A$10:$E$15,5,FALSE)) -> La posibilidad de afectación reputacional por falta de oportunidad en la prestación de los servicios debido a los retrasos en la contratación de prestadores externos | C13: =IF(A13="","",VLOOKUP(A13,'Mapa inherente'!$A$10:$N$15,14,FALSE)) -> Bajo | D13: =IF(B13="","",IF(B13=B12,D12+1,1)) -> 1 | E13: seguimiento a la contratación para evitar retrazos en la prestacion de los servicios de bienestar. | F13: Semestral | G13: Comunicaciones Internas, Correos electronicos | H13: Correctivo | I13: Manual | J13: Documentado | K13: Continua | L13: Con Registro | M13: =IF(AND(H13="Preventivo",I13="Automático"),"50%",IF(AND(H13="Preventivo",I13="Manual"),"40%",IF(AND(H13="Detectivo",I13="Automático"),"40%",IF(AND(H13="Detectivo",I13="Manual"),"30%",IF(AND(H13="Correctivo",I13="Automático"),"35%",IF(AND(H13="Correctivo",I13="Manual"),"25%","")))))) -> 25% | N13: =IF(OR(H13="Preventivo",H13="Detectivo"),"Probabilidad",IF(H13="Correctivo","Impacto","")) -> Impacto | O13: =IF(A13="","",IF(D13=1,IFERROR(IF(N13="Probabilidad",(VLOOKUP(A13,'Mapa inherente'!$A$10:$M$15,9,FALSE)-(VLOOKUP(A13,'Mapa inherente'!$A$10:$M$15,9,FALSE)*M13)),IF(N13="Impacto",VLOOKUP(A13,'Mapa inherente'!$A$10:$M$15,9,FALSE),"")),""), IFERROR(IF(N13="Probabilidad",(O12-(O12)*M13),O12),""))) -> 0.2 | P13: =IFERROR(IF(O13="","",IF(O13<=0.2,"Muy Baja",IF(O13<=0.4,"Baja",IF(O13<=0.6,"Media",IF(O13<=0.8,"Alta","Muy Alta"))))),"") -> Muy Baja | Q13: =IF(A13="","",IF(D13=1,IFERROR(IF(N13="Impacto",(VLOOKUP(A13,'Mapa inherente'!$A$10:$M$15,13,FALSE)-(VLOOKUP(A13,'Mapa inherente'!$A$10:$M$15,13,FALSE)*M13)),IF(N13="Probabilidad",VLOOKUP(A13,'Mapa inherente'!$A$10:$M$15,13,FALSE),"")),""), IFERROR(IF(N13="Impacto",(Q12-(Q12)*M13),Q12),""))) -> 0.3 | R13: =IFERROR(IF(Q13="","",IF(Q13<=0.2,"Leve",IF(Q13<=0.4,"Menor",IF(Q13<=0.6,"Moderado",IF(Q13<=0.8,"Mayor","Catastrófico"))))),"") -> Menor | S13: =IFERROR(IF(OR(AND(P13="Muy Baja",R13="Leve"),AND(P13="Muy Baja",R13="Menor"),AND(P13="Baja",R13="Leve")),"Bajo",IF(OR(AND(P13="Muy baja",R13="Moderado"),AND(P13="Baja",R13="Menor"),AND(P13="Baja",R13="Moderado"),AND(P13="Media",R13="Leve"),AND(P13="Media",R13="Menor"),AND(P13="Media",R13="Moderado"),AND(P13="Alta",R13="Leve"),AND(P13="Alta",R13="Menor")),"Moderado",IF(OR(AND(P13="Muy Baja",R13="Mayor"),AND(P13="Baja",R13="Mayor"),AND(P13="Media",R13="Mayor"),AND(P13="Alta",R13="Moderado"),AND(P13="Alta",R13="Mayor"),AND(P13="Muy Alta",R13="Leve"),AND(P13="Muy Alta",R13="Menor"),AND(P13="Muy Alta",R13="Moderado"),AND(P13="Muy Alta",R13="Mayor")),"Alto",IF(OR(AND(P13="Muy Baja",R13="Catastrófico"),AND(P13="Baja",R13="Catastrófico"),AND(P13="Media",R13="Catastrófico"),AND(P13="Alta",R13="Catastrófico"),AND(P13="Muy Alta",R13="Catastrófico")),"Extremo","")))),"") -> Bajo | T13: Reducir (mitigar)
A14: 2 | B14: =IF(A14="","",VLOOKUP(A14,'Mapa inherente'!$A$10:$E$15,5,FALSE)) -> La posibilidad de afectación reputacional por falta de oportunidad en la prestación de los servicios debido a los retrasos en la contratación de prestadores externos | C14: =IF(A14="","",VLOOKUP(A14,'Mapa inherente'!$A$10:$N$15,14,FALSE)) -> Bajo | D14: =IF(B14="","",IF(B14=B13,D13+1,1)) -> 2 | E14: Contratación oportuna de personal calificado y de los prestadores que se ajusten a las necesidades para mejorar la oportunidad de los servicios que brinda bienestar institucional | F14: Semestral | G14: Solicitudes de personal, solicitudes de cdp, estudios previos | H14: Preventivo | I14: Manual | J14: Documentado | K14: Continua | L14: Con Registro | M14: =IF(AND(H14="Preventivo",I14="Automático"),"50%",IF(AND(H14="Preventivo",I14="Manual"),"40%",IF(AND(H14="Detectivo",I14="Automático"),"40%",IF(AND(H14="Detectivo",I14="Manual"),"30%",IF(AND(H14="Correctivo",I14="Automático"),"35%",IF(AND(H14="Correctivo",I14="Manual"),"25%","")))))) -> 40% | N14: =IF(OR(H14="Preventivo",H14="Detectivo"),"Probabilidad",IF(H14="Correctivo","Impacto","")) -> Probabilidad | O14: =IF(A14="","",IF(D14=1,IFERROR(IF(N14="Probabilidad",(VLOOKUP(A14,'Mapa inherente'!$A$10:$M$15,9,FALSE)-(VLOOKUP(A14,'Mapa inherente'!$A$10:$M$15,9,FALSE)*M14)),IF(N14="Impacto",VLOOKUP(A14,'Mapa inherente'!$A$10:$M$15,9,FALSE),"")),""), IFERROR(IF(N14="Probabilidad",(O13-(O13)*M14),O13),""))) -> 0.12 | P14: =IFERROR(IF(O14="","",IF(O14<=0.2,"Muy Baja",IF(O14<=0.4,"Baja",IF(O14<=0.6,"Media",IF(O14<=0.8,"Alta","Muy Alta"))))),"") -> Muy Baja | Q14: =IF(A14="","",IF(D14=1,IFERROR(IF(N14="Impacto",(VLOOKUP(A14,'Mapa inherente'!$A$10:$M$15,13,FALSE)-(VLOOKUP(A14,'Mapa inherente'!$A$10:$M$15,13,FALSE)*M14)),IF(N14="Probabilidad",VLOOKUP(A14,'Mapa inherente'!$A$10:$M$15,13,FALSE),"")),""), IFERROR(IF(N14="Impacto",(Q13-(Q13)*M14),Q13),""))) -> 0.3 | R14: =IFERROR(IF(Q14="","",IF(Q14<=0.2,"Leve",IF(Q14<=0.4,"Menor",IF(Q14<=0.6,"Moderado",IF(Q14<=0.8,"Mayor","Catastrófico"))))),"") -> Menor | S14: =IFERROR(IF(OR(AND(P14="Muy Baja",R14="Leve"),AND(P14="Muy Baja",R14="Menor"),AND(P14="Baja",R14="Leve")),"Bajo",IF(OR(AND(P14="Muy baja",R14="Moderado"),AND(P14="Baja",R14="Menor"),AND(P14="Baja",R14="Moderado"),AND(P14="Media",R14="Leve"),AND(P14="Media",R14="Menor"),AND(P14="Media",R14="Moderado"),AND(P14="Alta",R14="Leve"),AND(P14="Alta",R14="Menor")),"Moderado",IF(OR(AND(P14="Muy Baja",R14="Mayor"),AND(P14="Baja",R14="Mayor"),AND(P14="Media",R14="Mayor"),AND(P14="Alta",R14="Moderado"),AND(P14="Alta",R14="Mayor"),AND(P14="Muy Alta",R14="Leve"),AND(P14="Muy Alta",R14="Menor"),AND(P14="Muy Alta",R14="Moderado"),AND(P14="Muy Alta",R14="Mayor")),"Alto",IF(OR(AND(P14="Muy Baja",R14="Catastrófico"),AND(P14="Baja",R14="Catastrófico"),AND(P14="Media",R14="Catastrófico"),AND(P14="Alta",R14="Catastrófico"),AND(P14="Muy Alta",R14="Catastrófico")),"Extremo","")))),"") -> Bajo | T14: Aceptar
