Workbook

Sheet Instructivo
C1: UNIVERSIDAD DE CÓRDOBA | H1: CÓDIGO: FMAM-013 VERSIÓN: 06 EMISIÓN: 05/12/2023
C2: MATRIZ MAPA DE RIESGOS
B4: Matriz Mapa de Riesgos
B6: Teniendo en cuenta que con la expedición del Decreto 1499 de 2017 “Por medio del cual se modifica el Decreto 1083 de 2015, Decreto Único Reglamentario del Sector Función Pública, en lo relacionado con el Sistema de Gestión establecido en el artículo 133 de la Ley 1753 de 2015”, se crea un solo Sistema de Gestión y se alinea con el Sistema de Control Interno, hoy todas las entidades públicas requieren actualizar y/o implementar el Modelo Integrado de Planeación y Gestión MIPG, modelo que incorpora el Modelo Estándar de Control Interno MECI a través de la 7a dimensión del mismo. En este marco general, el proceso de administración del riesgo es un esfuerzo conjunto entre la Alta Dirección y los servidores en todos sus niveles, ejercicio que inicia con la formulación de la política de Administración del Riesgo, la cual incluye los niveles de responsabilidad frente al seguimiento y evaluación, aspectos que deberán definirse acorde con el Esquema de Líneas de Defensa vinculado a la Dimensión 7. Teniendo en cuenta lo anterior y dada la necesidad de las entidades frente a la estructuración de los mapas de riesgos, como herramienta fundamental frente a la gestión del riesgo, el presente formato desarrolla un esquema completo acorde con los contenidos metodológicos de la Guía para la Administración del Riesgo y el diseño de controles V5. El formato cuenta con celdas parametrizadas y permite contar con los respectivos mapas de calor para riesgo inherente y riesgo residual.
B8: Orientaciones Generales
B9: Antes de iniciar con el diligenciamiento de la información en la matriz, se requiere haber avanzado en el análisis del proceso, su objetivo, alcance, actividades clave, considere los lineamientos establecidos en el Paso 2: identificación del riesgo, donde se explica ampliamente las bases para adelanter este análisis. Así mismo, considere en el Paso 3: valoración del riesgo los lineamientos para definir el No. de veces que se hace la actividad con la cual se relaciona el riesgo y su impacto en términos económicos o reputacionales. En este mismo paso se analizan los controles que deben responder a los atributos de eficiencia e informativos. NOTA: Si lo considera pertinente, es posible agregar hojas de trabajo adicionales al presente formato que permitan incluir la traza de estos análisis.
B11: El archivo contiene las siguientes hojas: - Hoja 1 Instructivo - Hoja 2 Mapa Final: Encontrará la totalidad de la estructura para la identificación y valoración de los riesgos por proceso, programa o proyecto, acorde con el nivel de desagregación que la entidad considere necesaria.
C14: Columna | E14: Descripción - Lineamientos para el diligenciamiento
C15: Proceso | E15: Diligencie el nombre del proceso al cual se le identificarán y valorarán los riesgos.
C16: Objetivo | E16: Diligencie el objetivo del proceso.
C17: Alcance | E17: Diligencie el alcance del proceso.
C18: Referencia | E18: Permite definir unl consecutivo de riesgos. Una entidad puede ir en el riesgo 150, pero tener 70 riesgos, lo que permite llevar una traza de los riesgos. Esta información la debe administrar la oficina asesora de planeación o gerencia de riesgos. Cuando un el riesgo salga del mapa no existirá otro riesgo con el mismo número.
C19: Impacto | E19: Analice las consecuencias que puede ocasionar a la organización la materialización del riesgo, redacte de la forma más concreta posible.
C20: Causa Inmediata | E20: Circunstancias bajo las cuales se presenta el riesgo, es la situación más evidente frente al riesgo, redacte de la forma más concreta posible.
C21: Causa Raíz | E21: Causa principal o básica, corresponde a las razones por la cuales se puede presentar el riesgo, redacte de la forma más concreta posible.
C22: Descripción del Riesgo | E22: Consolida o resume los análisis sobre impacto + causa inmediata + causa raíz, permitiendo contar con una redacción clara y concreta del riesgo indentificado. Tenga en cuenta la estructura de alto nivel establecida en al guía, inicia con POSIBILIDAD DE + Impacto para la entidad (Qué) + Causa Inmediata (Cómo) + Causa Raíz (Por qué)
C23: Clasificación del Riesgo | E23: Utilice la lista de despligue que se encuentra parametrizada, le aparecerán las opciones: i)Daños Activos Fisicos, ii)Ejecucion y Administracion de procesos, iii)Fallas Tecnologicas, iv)Fraude Externo, v)Fraude Interno, vi)Relaciones Laborales, vii)Usuarios, productos y practicas organizacionales.
C24: Frecuencia con la cual se lleva a cabo la actividad | E24: Defina el # de veces que se ejecuta la actividad durante el año, (Recuerde la probabilidad e ocurrencia del riesgo se defien como el No. de veces que se pasa por el punto de riesgo en el periodo de 1 año). La matriz automáticamente hará el cálculo para el nivel de probabilidad inherente (Columnas H-I)
C25: Criterios de Impacto | E25: Utilice la lista de despligue que se encuentra parametrizada, le aparecerán las opciones de la tabla de Impacto en la Hoja 6 del presente documento. La matriz automáticamente hará el cálculo para el nivel de impacto inherente (Columnas L-M)
... C39: Estado | E39: Utilice la lista de despligue que se encuentra parametrizada, le aparecerán las opciones: i)Finalizado, ii)En curso, la selección en este caso dependerá de las acciones del plan que se hayan establecido en cada caso.
B42: - Hoja 3 Matriz de Calor Inherente: En esta hoja, en la medida en que ese diligencia el Mapa Final, se verán reflejados los riesgos en su zona correspondiente. Esta hoja no se diligencia se genera de manera automática.
B43: - Hoja 4 Matriz de Calor Residual: En esta hoja, en la medida en que ese diligencia el Mapa Final, se verán reflejados los riesgos en su zona correspondiente. Esta hoja no se diligencia se genera de manera automática.
B44: - Hoja 5 Tabla de probabilidad: Tabla referente para todos los cálculos (no se diligencia)
B45: - Hoja 6 Tabla de Impacto: Tabla referente para todos los cálculos (no se diligencia)
B46: - Hoja 7 Tabla de Valoración de Controles: Tabla referente para todos los cálculos (no se diligencia)

Sheet Mapa inherente
C1: UNIVERSIDAD DE CÓRDOBA | M1: CÓDIGO: FMAM-013 VERSIÓN: 06 EMISIÓN: 12/12/2023
C2: MATRIZ MAPA DE RIESGOS
A4: Proceso: | C4: Gestión de Admisiones y Registros | F4: Objetivo: | G4: Garantizar que los procesos de matrícula y sus actividades asociadas de pregrado y posgrados, se desarrollen de manera oportuna y confiable de conformidad a los procedimientos y normatividad interna y externa aplicable al proceso. | J4: Alcance: | L4: Aplica para las actividades de inscripción, selección, admisión, matricula, planes de estudio, homologaciones, transferencias, traslados, cancelaciones, reingresos, sanciones académicas, grados, certificaciones académicas y carnetización.
A5: Fecha elaboración | C5: 45405
A7: Identificación del riesgo | G7: Análisis del riesgo inherente
A8: Referencia | B8: Impacto | C8: Causa Inmediata | D8: Causa Raíz | E8: Descripción del Riesgo | F8: Clasificación del Riesgo | G8: Frecuencia con la cual se realiza la actividad - Diligencie este campo | H8: Probabilidad Inherente | I8: % | J8: Criterios de impacto - Diligencie este campo | K8: Observación de criterio | L8: Impacto Inherente | M8: % | N8: Zona de Riesgo Inherente
A10: 1 | B10: Reputacional | C10: Incumplimiento en las actividades identificadas en el Calendario Académico de pregrado y posgrados | D10: Falta de planeación en las catividades de los calendarioas academicos, asi como causas incontrolables producto de los paros y catastrofes naturales | E10: Posibilidad de afectación reputacional por Incumplimiento en las actividades identificadas en el Calendario Académico de pregrado y posgrados producto de la falta de planeación en las actividades y las causas incontrolables a raíz de los paros y catástrofes naturales | F10: Ejecucion y Administracion de procesos | G10: 2 | H10: =IF(G10<=0,"",IF(G10<=2,"Muy Baja",IF(G10<=24,"Baja",IF(G10<=500,"Media",IF(G10<=5000,"Alta","Muy Alta"))))) -> Muy Baja | I10: =IF(H10="","",IF(H10="Muy Baja",0.2,IF(H10="Baja",0.4,IF(H10="Media",0.6,IF(H10="Alta",0.8,IF(H10="Muy Alta",1,)))))) -> 0.2 | J10: El riesgo afecta la imagen de la entidad con algunos usuarios de relevancia frente al logro de los objetivos | K10: =IF(NOT(ISERROR(MATCH(J10,'Tabla Impacto'!$B$225:$B$227,0))),'Tabla Impacto'!$F$227&"Por favor no seleccionar los criterios de impacto(Afectación Económica o presupuestal y Pérdida Reputacional)",J10) -> El riesgo afecta la imagen de la entidad con algunos usuarios de relevancia frente al logro de los objetivos | L10: =IF(OR(K10='Tabla Impacto'!$C$15,K10='Tabla Impacto'!$D$15),"Leve",IF(OR(K10='Tabla Impacto'!$C$16,K10='Tabla Impacto'!$D$16),"Menor",IF(OR(K10='Tabla Impacto'!$C$17,K10='Tabla Impacto'!$D$17),"Moderado",IF(OR(K10='Tabla Impacto'!$C$18,K10='Tabla Impacto'!$D$18),"Mayor",IF(OR(K10='Tabla Impacto'!$C$19,K10='Tabla Impacto'!$D$19),"Catastrófico",""))))) -> Moderado | M10: =IF(L10="","",IF(L10="Leve",0.2,IF(L10="Menor",0.4,IF(L10="Moderado",0.6,IF(L10="Mayor",0.8,IF(L10="Catastrófico",1,)))))) -> 0.6 | N10: =IF(OR(AND(H10="Muy Baja",L10="Leve"),AND(H10="Muy Baja",L10="Menor"),AND(H10="Baja",L10="Leve")),"Bajo",IF(OR(AND(H10="Muy baja",L10="Moderado"),AND(H10="Baja",L10="Menor"),AND(H10="Baja",L10="Moderado"),AND(H10="Media",L10="Leve"),AND(H10="Media",L10="Menor"),AND(H10="Media",L10="Moderado"),AND(H10="Alta",L10="Leve"),AND(H10="Alta",L10="Menor")),"Moderado",IF(OR(AND(H10="Muy Baja",L10="Mayor"),AND(H10="Baja",L10="Mayor"),AND(H10="Media",L10="Mayor"),AND(H10="Alta",L10="Moderado"),AND(H10="Alta",L10="Mayor"),AND(H10="Muy Alta",L10="Leve"),AND(H10="Muy Alta",L10="Menor"),AND(H10="Muy Alta",L10="Moderado"),AND(H10="Muy Alta",L10="Mayor")),"Alto",IF(OR(AND(H10="Muy Baja",L10="Catastrófico"),AND(H10="Baja",L10="Catastrófico"),AND(H10="Media",L10="Catastrófico"),AND(H10="Alta",L10="Catastrófico"),AND(H10="Muy Alta",L10="Catastrófico")),"Extremo","")))) -> Moderado
A11: 2 | B11: Reputacional | C11: Uso indebido o modificación de la información académica contenida en los sistemas académicos de la Institución y/o en otros medios | D11: Falta de seguimiento al uso de los sistemas académicos y demás información académica No definir los roles autorizados para el manejo de los sistemas de información académica | E11: Posibilidad de afectación reputacional por uso indebido o modificación de la información académica contenida en los sistemas académicos de la Institución y/o en otros medios por falta de seguimiento al uso de los sistemas académicos y demás información académica, asi como tambien por no definir los roles autorizados para el manejo de los mismos. | F11: Fraude Interno | G11: 2 | H11: =IF(G11<=0,"",IF(G11<=2,"Muy Baja",IF(G11<=24,"Baja",IF(G11<=500,"Media",IF(G11<=5000,"Alta","Muy Alta"))))) -> Muy Baja | I11: =IF(H11="","",IF(H11="Muy Baja",0.2,IF(H11="Baja",0.4,IF(H11="Media",0.6,IF(H11="Alta",0.8,IF(H11="Muy Alta",1,)))))) -> 0.2 | J11: El riesgo afecta la imagen de de la entidad con efecto publicitario sostenido a nivel de sector administrativo, nivel departamental o municipal | K11: =IF(NOT(ISERROR(MATCH(J11,'Tabla Impacto'!$B$225:$B$227,0))),'Tabla Impacto'!$F$227&"Por favor no seleccionar los criterios de impacto(Afectación Económica o presupuestal y Pérdida Reputacional)",J11) -> El riesgo afecta la imagen de de la entidad con efecto publicitario sostenido a nivel de sector administrativo, nivel departamental o municipal | L11: =IF(OR(K11='Tabla Impacto'!$C$15,K11='Tabla Impacto'!$D$15),"Leve",IF(OR(K11='Tabla Impacto'!$C$16,K11='Tabla Impacto'!$D$16),"Menor",IF(OR(K11='Tabla Impacto'!$C$17,K11='Tabla Impacto'!$D$17),"Moderado",IF(OR(K11='Tabla Impacto'!$C$18,K11='Tabla Impacto'!$D$18),"Mayor",IF(OR(K11='Tabla Impacto'!$C$19,K11='Tabla Impacto'!$D$19),"Catastrófico",""))))) -> Mayor | M11: =IF(L11="","",IF(L11="Leve",0.2,IF(L11="Menor",0.4,IF(L11="Moderado",0.6,IF(L11="Mayor",0.8,IF(L11="Catastrófico",1,)))))) -> 0.8 | N11: =IF(OR(AND(H11="Muy Baja",L11="Leve"),AND(H11="Muy Baja",L11="Menor"),AND(H11="Baja",L11="Leve")),"Bajo",IF(OR(AND(H11="Muy baja",L11="Moderado"),AND(H11="Baja",L11="Menor"),AND(H11="Baja",L11="Moderado"),AND(H11="Media",L11="Leve"),AND(H11="Media",L11="Menor"),AND(H11="Media",L11="Moderado"),AND(H11="Alta",L11="Leve"),AND(H11="Alta",L11="Menor")),"Moderado",IF(OR(AND(H11="Muy Baja",L11="Mayor"),AND(H11="Baja",L11="Mayor"),AND(H11="Media",L11="Mayor"),AND(H11="Alta",L11="Moderado"),AND(H11="Alta",L11="Mayor"),AND(H11="Muy Alta",L11="Leve"),AND(H11="Muy Alta",L11="Menor"),AND(H11="Muy Alta",L11="Moderado"),AND(H11="Muy Alta",L11="Mayor")),"Alto",IF(OR(AND(H11="Muy Baja",L11="Catastrófico"),AND(H11="Baja",L11="Catastrófico"),AND(H11="Media",L11="Catastrófico"),AND(H11="Alta",L11="Catastrófico"),AND(H11="Muy Alta",L11="Catastrófico")),"Extremo","")))) -> Alto
A12: 3 | B12: Reputacional | C12: Legalizar matricula académica sin el pleno cumplimiento de los requisitos establecidos por la Institución en los programas de pregrado y posgrados | D12: Los requisitos de legalización de la matricula académica no se encuentran definidos en la orden de matricula Falta de seguimiento a las carpetas de legalización de los nuevos estudiantes | E12: Posibilidad de afectación reputacional y economica por legalizar matricula académica sin el pleno cumplimiento de los requisitos pleno cumplimiento de los requisitos establecidos por la Institución en los programas de pregrado y posgrados, ya sea por falta de conocimiento o información por parte de los funcionarios encargados de la legalización de la matricula o porque los requisitos de legalización de la matricula académica no se encuentran definidos en la orden de matricula | F12: Ejecucion y Administracion de procesos | G12: 2 | H12: =IF(G12<=0,"",IF(G12<=2,"Muy Baja",IF(G12<=24,"Baja",IF(G12<=500,"Media",IF(G12<=5000,"Alta","Muy Alta"))))) -> Muy Baja | I12: =IF(H12="","",IF(H12="Muy Baja",0.2,IF(H12="Baja",0.4,IF(H12="Media",0.6,IF(H12="Alta",0.8,IF(H12="Muy Alta",1,)))))) -> 0.2 | J12: El riesgo afecta la imagen de de la entidad con efecto publicitario sostenido a nivel de sector administrativo, nivel departamental o municipal | K12: =IF(NOT(ISERROR(MATCH(J12,'Tabla Impacto'!$B$225:$B$227,0))),'Tabla Impacto'!$F$227&"Por favor no seleccionar los criterios de impacto(Afectación Económica o presupuestal y Pérdida Reputacional)",J12) -> El riesgo afecta la imagen de de la entidad con efecto publicitario sostenido a nivel de sector administrativo, nivel departamental o municipal | L12: =IF(OR(K12='Tabla Impacto'!$C$15,K12='Tabla Impacto'!$D$15),"Leve",IF(OR(K12='Tabla Impacto'!$C$16,K12='Tabla Impacto'!$D$16),"Menor",IF(OR(K12='Tabla Impacto'!$C$17,K12='Tabla Impacto'!$D$17),"Moderado",IF(OR(K12='Tabla Impacto'!$C$18,K12='Tabla Impacto'!$D$18),"Mayor",IF(OR(K12='Tabla Impacto'!$C$19,K12='Tabla Impacto'!$D$19),"Catastrófico",""))))) -> Mayor | M12: =IF(L12="","",IF(L12="Leve",0.2,IF(L12="Menor",0.4,IF(L12="Moderado",0.6,IF(L12="Mayor",0.8,IF(L12="Catastrófico",1,)))))) -> 0.8 | N12: =IF(OR(AND(H12="Muy Baja",L12="Leve"),AND(H12="Muy Baja",L12="Menor"),AND(H12="Baja",L12="Leve")),"Bajo",IF(OR(AND(H12="Muy baja",L12="Moderado"),AND(H12="Baja",L12="Menor"),AND(H12="Baja",L12="Moderado"),AND(H12="Media",L12="Leve"),AND(H12="Media",L12="Menor"),AND(H12="Media",L12="Moderado"),AND(H12="Alta",L12="Leve"),AND(H12="Alta",L12="Menor")),"Moderado",IF(OR(AND(H12="Muy Baja",L12="Mayor"),AND(H12="Baja",L12="Mayor"),AND(H12="Media",L12="Mayor"),AND(H12="Alta",L12="Moderado"),AND(H12="Alta",L12="Mayor"),AND(H12="Muy Alta",L12="Leve"),AND(H12="Muy Alta",L12="Menor"),AND(H12="Muy Alta",L12="Moderado"),AND(H12="Muy Alta",L12="Mayor")),"Alto",IF(OR(AND(H12="Muy Baja",L12="Catastrófico"),AND(H12="Baja",L12="Catastrófico"),AND(H12="Media",L12="Catastrófico"),AND(H12="Alta",L12="Catastrófico"),AND(H12="Muy Alta",L12="Catastrófico")),"Extremo","")))) -> Alto
A13: 4 | B13: Reputacional | C13: incumplimiento en la oferta académica de pregrado y posgrados | D13: No hacer evaluación del proceso de matricula al finalizarlo No se haga seguimiento a los cupos ofertados y matriculados para cada programa académico según la oferta académica | E13: Posibilidad de afectación reputacional por incumplimiento en la oferta académica de pregrado y posgrados, respecto a que el número de matriculados en los programas académicos supere la oferta aprobada por el Consejo Académico, producto de No hacer evaluación del proceso de matricula al finalizarlo | F13: Ejecucion y Administracion de procesos | G13: 2 | H13: =IF(G13<=0,"",IF(G13<=2,"Muy Baja",IF(G13<=24,"Baja",IF(G13<=500,"Media",IF(G13<=5000,"Alta","Muy Alta"))))) -> Muy Baja | I13: =IF(H13="","",IF(H13="Muy Baja",0.2,IF(H13="Baja",0.4,IF(H13="Media",0.6,IF(H13="Alta",0.8,IF(H13="Muy Alta",1,)))))) -> 0.2 | J13: El riesgo afecta la imagen de de la entidad con efecto publicitario sostenido a nivel de sector administrativo, nivel departamental o municipal | K13: =IF(NOT(ISERROR(MATCH(J13,'Tabla Impacto'!$B$225:$B$227,0))),'Tabla Impacto'!$F$227&"Por favor no seleccionar los criterios de impacto(Afectación Económica o presupuestal y Pérdida Reputacional)",J13) -> El riesgo afecta la imagen de de la entidad con efecto publicitario sostenido a nivel de sector administrativo, nivel departamental o municipal | L13: =IF(OR(K13='Tabla Impacto'!$C$15,K13='Tabla Impacto'!$D$15),"Leve",IF(OR(K13='Tabla Impacto'!$C$16,K13='Tabla Impacto'!$D$16),"Menor",IF(OR(K13='Tabla Impacto'!$C$17,K13='Tabla Impacto'!$D$17),"Moderado",IF(OR(K13='Tabla Impacto'!$C$18,K13='Tabla Impacto'!$D$18),"Mayor",IF(OR(K13='Tabla Impacto'!$C$19,K13='Tabla Impacto'!$D$19),"Catastrófico",""))))) -> Mayor | M13: =IF(L13="","",IF(L13="Leve",0.2,IF(L13="Menor",0.4,IF(L13="Moderado",0.6,IF(L13="Mayor",0.8,IF(L13="Catastrófico",1,)))))) -> 0.8 | N13: =IF(OR(AND(H13="Muy Baja",L13="Leve"),AND(H13="Muy Baja",L13="Menor"),AND(H13="Baja",L13="Leve")),"Bajo",IF(OR(AND(H13="Muy baja",L13="Moderado"),AND(H13="Baja",L13="Menor"),AND(H13="Baja",L13="Moderado"),AND(H13="Media",L13="Leve"),AND(H13="Media",L13="Menor"),AND(H13="Media",L13="Moderado"),AND(H13="Alta",L13="Leve"),AND(H13="Alta",L13="Menor")),"Moderado",IF(OR(AND(H13="Muy Baja",L13="Mayor"),AND(H13="Baja",L13="Mayor"),AND(H13="Media",L13="Mayor"),AND(H13="Alta",L13="Moderado"),AND(H13="Alta",L13="Mayor"),AND(H13="Muy Alta",L13="Leve"),AND(H13="Muy Alta",L13="Menor"),AND(H13="Muy Alta",L13="Moderado"),AND(H13="Muy Alta",L13="Mayor")),"Alto",IF(OR(AND(H13="Muy Baja",L13="Catastrófico"),AND(H13="Baja",L13="Catastrófico"),AND(H13="Media",L13="Catastrófico"),AND(H13="Alta",L13="Catastrófico"),AND(H13="Muy Alta",L13="Catastrófico")),"Extremo","")))) -> Alto
A14: 5 | B14: Económico y Reputacional | C14: Desconocimiento de las nuevas políticas internas y externas aplicables al proceso | D14: Falta de revisión y actualización de las matrices legales de los procesos y entidades de interes al proceso de Gestión de Admisiones y Registro Condiciones cambiantes no consideradas por el proceso y la Institución | E14: Posibilidad de afectación economica y reputacional por desconocimiento de las nuevas políticas internas y externas aplicables al proceso debido por falta de revisión y actualización de las matrices legales de los procesos y grupos de interes al proceso de Gestión de Admisiones y Registro | F14: Ejecucion y Administracion de procesos | G14: 1 | H14: =IF(G14<=0,"",IF(G14<=2,"Muy Baja",IF(G14<=24,"Baja",IF(G14<=500,"Media",IF(G14<=5000,"Alta","Muy Alta"))))) -> Muy Baja | I14: =IF(H14="","",IF(H14="Muy Baja",0.2,IF(H14="Baja",0.4,IF(H14="Media",0.6,IF(H14="Alta",0.8,IF(H14="Muy Alta",1,)))))) -> 0.2 | J14: El riesgo afecta la imagen de de la entidad con efecto publicitario sostenido a nivel de sector administrativo, nivel departamental o municipal | K14: =IF(NOT(ISERROR(MATCH(J14,'Tabla Impacto'!$B$225:$B$227,0))),'Tabla Impacto'!$F$227&"Por favor no seleccionar los criterios de impacto(Afectación Económica o presupuestal y Pérdida Reputacional)",J14) -> El riesgo afecta la imagen de de la entidad con efecto publicitario sostenido a nivel de sector administrativo, nivel departamental o municipal | L14: =IF(OR(K14='Tabla Impacto'!$C$15,K14='Tabla Impacto'!$D$15),"Leve",IF(OR(K14='Tabla Impacto'!$C$16,K14='Tabla Impacto'!$D$16),"Menor",IF(OR(K14='Tabla Impacto'!$C$17,K14='Tabla Impacto'!$D$17),"Moderado",IF(OR(K14='Tabla Impacto'!$C$18,K14='Tabla Impacto'!$D$18),"Mayor",IF(OR(K14='Tabla Impacto'!$C$19,K14='Tabla Impacto'!$D$19),"Catastrófico",""))))) -> Mayor | M14: =IF(L14="","",IF(L14="Leve",0.2,IF(L14="Menor",0.4,IF(L14="Moderado",0.6,IF(L14="Mayor",0.8,IF(L14="Catastrófico",1,)))))) -> 0.8 | N14: =IF(OR(AND(H14="Muy Baja",L14="Leve"),AND(H14="Muy Baja",L14="Menor"),AND(H14="Baja",L14="Leve")),"Bajo",IF(OR(AND(H14="Muy baja",L14="Moderado"),AND(H14="Baja",L14="Menor"),AND(H14="Baja",L14="Moderado"),AND(H14="Media",L14="Leve"),AND(H14="Media",L14="Menor"),AND(H14="Media",L14="Moderado"),AND(H14="Alta",L14="Leve"),AND(H14="Alta",L14="Menor")),"Moderado",IF(OR(AND(H14="Muy Baja",L14="Mayor"),AND(H14="Baja",L14="Mayor"),AND(H14="Media",L14="Mayor"),AND(H14="Alta",L14="Moderado"),AND(H14="Alta",L14="Mayor"),AND(H14="Muy Alta",L14="Leve"),AND(H14="Muy Alta",L14="Menor"),AND(H14="Muy Alta",L14="Moderado"),AND(H14="Muy Alta",L14="Mayor")),"Alto",IF(OR(AND(H14="Muy Baja",L14="Catastrófico"),AND(H14="Baja",L14="Catastrófico"),AND(H14="Media",L14="Catastrófico"),AND(H14="Alta",L14="Catastrófico"),AND(H14="Muy Alta",L14="Catastrófico")),"Extremo","")))) -> Alto
A15: 6 | H15: =IF(G15<=0,"",IF(G15<=2,"Muy Baja",IF(G15<=24,"Baja",IF(G15<=500,"Media",IF(G15<=5000,"Alta","Muy Alta"))))) | I15: =IF(H15="","",IF(H15="Muy Baja",0.2,IF(H15="Baja",0.4,IF(H15="Media",0.6,IF(H15="Alta",0.8,IF(H15="Muy Alta",1,)))))) | K15: =IF(NOT(ISERROR(MATCH(J15,'Tabla Impacto'!$B$225:$B$227,0))),'Tabla Impacto'!$F$227&"Por favor no seleccionar los criterios de impacto(Afectación Económica o presupuestal y Pérdida Reputacional)",J15) -> 0 | L15: =IF(OR(K15='Tabla Impacto'!$C$15,K15='Tabla Impacto'!$D$15),"Leve",IF(OR(K15='Tabla Impacto'!$C$16,K15='Tabla Impacto'!$D$16),"Menor",IF(OR(K15='Tabla Impacto'!$C$17,K15='Tabla Impacto'!$D$17),"Moderado",IF(OR(K15='Tabla Impacto'!$C$18,K15='Tabla Impacto'!$D$18),"Mayor",IF(OR(K15='Tabla Impacto'!$C$19,K15='Tabla Impacto'!$D$19),"Catastrófico",""))))) | M15: =IF(L15="","",IF(L15="Leve",0.2,IF(L15="Menor",0.4,IF(L15="Moderado",0.6,IF(L15="Mayor",0.8,IF(L15="Catastrófico",1,)))))) | N15: =IF(OR(AND(H15="Muy Baja",L15="Leve"),AND(H15="Muy Baja",L15="Menor"),AND(H15="Baja",L15="Leve")),"Bajo",IF(OR(AND(H15="Muy baja",L15="Moderado"),AND(H15="Baja",L15="Menor"),AND(H15="Baja",L15="Moderado"),AND(H15="Media",L15="Leve"),AND(H15="Media",L15="Menor"),AND(H15="Media",L15="Moderado"),AND(H15="Alta",L15="Leve"),AND(H15="Alta",L15="Menor")),"Moderado",IF(OR(AND(H15="Muy Baja",L15="Mayor"),AND(H15="Baja",L15="Mayor"),AND(H15="Media",L15="Mayor"),AND(H15="Alta",L15="Moderado"),AND(H15="Alta",L15="Mayor"),AND(H15="Muy Alta",L15="Leve"),AND(H15="Muy Alta",L15="Menor"),AND(H15="Muy Alta",L15="Moderado"),AND(H15="Muy Alta",L15="Mayor")),"Alto",IF(OR(AND(H15="Muy Baja",L15="Catastrófico"),AND(H15="Baja",L15="Catastrófico"),AND(H15="Media",L15="Catastrófico"),AND(H15="Alta",L15="Catastrófico"),AND(H15="Muy Alta",L15="Catastrófico")),"Extremo",""))))
A16: 7 | H16: =IF(G16<=0,"",IF(G16<=2,"Muy Baja",IF(G16<=24,"Baja",IF(G16<=500,"Media",IF(G16<=5000,"Alta","Muy Alta"))))) | I16: =IF(H16="","",IF(H16="Muy Baja",0.2,IF(H16="Baja",0.4,IF(H16="Media",0.6,IF(H16="Alta",0.8,IF(H16="Muy Alta",1,)))))) | K16: =IF(NOT(ISERROR(MATCH(J16,'Tabla Impacto'!$B$225:$B$227,0))),'Tabla Impacto'!$F$227&"Por favor no seleccionar los criterios de impacto(Afectación Económica o presupuestal y Pérdida Reputacional)",J16) -> 0 | L16: =IF(OR(K16='Tabla Impacto'!$C$15,K16='Tabla Impacto'!$D$15),"Leve",IF(OR(K16='Tabla Impacto'!$C$16,K16='Tabla Impacto'!$D$16),"Menor",IF(OR(K16='Tabla Impacto'!$C$17,K16='Tabla Impacto'!$D$17),"Moderado",IF(OR(K16='Tabla Impacto'!$C$18,K16='Tabla Impacto'!$D$18),"Mayor",IF(OR(K16='Tabla Impacto'!$C$19,K16='Tabla Impacto'!$D$19),"Catastrófico",""))))) | M16: =IF(L16="","",IF(L16="Leve",0.2,IF(L16="Menor",0.4,IF(L16="Moderado",0.6,IF(L16="Mayor",0.8,IF(L16="Catastrófico",1,)))))) | N16: =IF(OR(AND(H16="Muy Baja",L16="Leve"),AND(H16="Muy Baja",L16="Menor"),AND(H16="Baja",L16="Leve")),"Bajo",IF(OR(AND(H16="Muy baja",L16="Moderado"),AND(H16="Baja",L16="Menor"),AND(H16="Baja",L16="Moderado"),AND(H16="Media",L16="Leve"),AND(H16="Media",L16="Menor"),AND(H16="Media",L16="Moderado"),AND(H16="Alta",L16="Leve"),AND(H16="Alta",L16="Menor")),"Moderado",IF(OR(AND(H16="Muy Baja",L16="Mayor"),AND(H16="Baja",L16="Mayor"),AND(H16="Media",L16="Mayor"),AND(H16="Alta",L16="Moderado"),AND(H16="Alta",L16="Mayor"),AND(H16="Muy Alta",L16="Leve"),AND(H16="Muy Alta",L16="Menor"),AND(H16="Muy Alta",L16="Moderado"),AND(H16="Muy Alta",L16="Mayor")),"Alto",IF(OR(AND(H16="Muy Baja",L16="Catastrófico"),AND(H16="Baja",L16="Catastrófico"),AND(H16="Media",L16="Catastrófico"),AND(H16="Alta",L16="Catastrófico"),AND(H16="Muy Alta",L16="Catastrófico")),"Extremo",""))))
A17: 8 | H17: =IF(G17<=0,"",IF(G17<=2,"Muy Baja",IF(G17<=24,"Baja",IF(G17<=500,"Media",IF(G17<=5000,"Alta","Muy Alta"))))) | I17: =IF(H17="","",IF(H17="Muy Baja",0.2,IF(H17="Baja",0.4,IF(H17="Media",0.6,IF(H17="Alta",0.8,IF(H17="Muy Alta",1,)))))) | K17: =IF(NOT(ISERROR(MATCH(J17,'Tabla Impacto'!$B$225:$B$227,0))),'Tabla Impacto'!$F$227&"Por favor no seleccionar los criterios de impacto(Afectación Económica o presupuestal y Pérdida Reputacional)",J17) -> 0 | L17: =IF(OR(K17='Tabla Impacto'!$C$15,K17='Tabla Impacto'!$D$15),"Leve",IF(OR(K17='Tabla Impacto'!$C$16,K17='Tabla Impacto'!$D$16),"Menor",IF(OR(K17='Tabla Impacto'!$C$17,K17='Tabla Impacto'!$D$17),"Moderado",IF(OR(K17='Tabla Impacto'!$C$18,K17='Tabla Impacto'!$D$18),"Mayor",IF(OR(K17='Tabla Impacto'!$C$19,K17='Tabla Impacto'!$D$19),"Catastrófico",""))))) | M17: =IF(L17="","",IF(L17="Leve",0.2,IF(L17="Menor",0.4,IF(L17="Moderado",0.6,IF(L17="Mayor",0.8,IF(L17="Catastrófico",1,)))))) | N17: =IF(OR(AND(H17="Muy Baja",L17="Leve"),AND(H17="Muy Baja",L17="Menor"),AND(H17="Baja",L17="Leve")),"Bajo",IF(OR(AND(H17="Muy baja",L17="Moderado"),AND(H17="Baja",L17="Menor"),AND(H17="Baja",L17="Moderado"),AND(H17="Media",L17="Leve"),AND(H17="Media",L17="Menor"),AND(H17="Media",L17="Moderado"),AND(H17="Alta",L17="Leve"),AND(H17="Alta",L17="Menor")),"Moderado",IF(OR(AND(H17="Muy Baja",L17="Mayor"),AND(H17="Baja",L17="Mayor"),AND(H17="Media",L17="Mayor"),AND(H17="Alta",L17="Moderado"),AND(H17="Alta",L17="Mayor"),AND(H17="Muy Alta",L17="Leve"),AND(H17="Muy Alta",L17="Menor"),AND(H17="Muy Alta",L17="Moderado"),AND(H17="Muy Alta",L17="Mayor")),"Alto",IF(OR(AND(H17="Muy Baja",L17="Catastrófico"),AND(H17="Baja",L17="Catastrófico"),AND(H17="Media",L17="Catastrófico"),AND(H17="Alta",L17="Catastrófico"),AND(H17="Muy Alta",L17="Catastrófico")),"Extremo",""))))
A18: 9 | H18: =IF(G18<=0,"",IF(G18<=2,"Muy Baja",IF(G18<=24,"Baja",IF(G18<=500,"Media",IF(G18<=5000,"Alta","Muy Alta"))))) | I18: =IF(H18="","",IF(H18="Muy Baja",0.2,IF(H18="Baja",0.4,IF(H18="Media",0.6,IF(H18="Alta",0.8,IF(H18="Muy Alta",1,)))))) | K18: =IF(NOT(ISERROR(MATCH(J18,'Tabla Impacto'!$B$225:$B$227,0))),'Tabla Impacto'!$F$227&"Por favor no seleccionar los criterios de impacto(Afectación Económica o presupuestal y Pérdida Reputacional)",J18) -> 0 | L18: =IF(OR(K18='Tabla Impacto'!$C$15,K18='Tabla Impacto'!$D$15),"Leve",IF(OR(K18='Tabla Impacto'!$C$16,K18='Tabla Impacto'!$D$16),"Menor",IF(OR(K18='Tabla Impacto'!$C$17,K18='Tabla Impacto'!$D$17),"Moderado",IF(OR(K18='Tabla Impacto'!$C$18,K18='Tabla Impacto'!$D$18),"Mayor",IF(OR(K18='Tabla Impacto'!$C$19,K18='Tabla Impacto'!$D$19),"Catastrófico",""))))) | M18: =IF(L18="","",IF(L18="Leve",0.2,IF(L18="Menor",0.4,IF(L18="Moderado",0.6,IF(L18="Mayor",0.8,IF(L18="Catastrófico",1,)))))) | N18: =IF(OR(AND(H18="Muy Baja",L18="Leve"),AND(H18="Muy Baja",L18="Menor"),AND(H18="Baja",L18="Leve")),"Bajo",IF(OR(AND(H18="Muy baja",L18="Moderado"),AND(H18="Baja",L18="Menor"),AND(H18="Baja",L18="Moderado"),AND(H18="Media",L18="Leve"),AND(H18="Media",L18="Menor"),AND(H18="Media",L18="Moderado"),AND(H18="Alta",L18="Leve"),AND(H18="Alta",L18="Menor")),"Moderado",IF(OR(AND(H18="Muy Baja",L18="Mayor"),AND(H18="Baja",L18="Mayor"),AND(H18="Media",L18="Mayor"),AND(H18="Alta",L18="Moderado"),AND(H18="Alta",L18="Mayor"),AND(H18="Muy Alta",L18="Leve"),AND(H18="Muy Alta",L18="Menor"),AND(H18="Muy Alta",L18="Moderado"),AND(H18="Muy Alta",L18="Mayor")),"Alto",IF(OR(AND(H18="Muy Baja",L18="Catastrófico"),AND(H18="Baja",L18="Catastrófico"),AND(H18="Media",L18="Catastrófico"),AND(H18="Alta",L18="Catastrófico"),AND(H18="Muy Alta",L18="Catastrófico")),"Extremo",""))))
A20: *Nota: La columna referencia se sugiere para mantener el consecutivo de riesgos, así el riesgo salga del mapa no existirá otro riesgo con el mismo número. Una entidad puede ir en el riesgo 150 pero tener 70 riesgos, lo que permite llevar una traza de los riesgos. Esta información la debe administrar la Oficina Asesora de Planeación o Gerencia de Riesgos.
A21: Fuente: Adaptado de Curso Riesgo Operativo Universidad del Rosario por Dirección de Gestión y Desempeño Institucional de Función Pública, 2020.

Sheet Matriz Calor Inherente
J2: UNIVERSIDAD DE CÓRDOBA | AN2: CÓDIGO: FMAM-013 VERSIÓN: 06 EMISIÓN: 12/12/2023
J3: MATRIZ MAPA DE RIESGOS
B5: Matriz de Calor Inherente | J5: Impacto
B9: Probabilidad | E9: Muy Alta 100% | J9: =IF(AND('Mapa inherente'!$H$10="Muy Alta",'Mapa inherente'!$L$10="Leve"),CONCATENATE("R",'Mapa inherente'!$A$10),"") | L9: =IF(AND('Mapa inherente'!$H$11="Muy Alta",'Mapa inherente'!$L$11="Leve"),CONCATENATE("R",'Mapa inherente'!$A$11),"") | N9: =IF(AND('Mapa inherente'!$H$12="Muy Alta",'Mapa inherente'!$L$12="Leve"),CONCATENATE("R",'Mapa inherente'!$A$12),"") | P9: =IF(AND('Mapa inherente'!$H$10="Muy Alta",'Mapa inherente'!$L$10="Menor"),CONCATENATE("R",'Mapa inherente'!$A$10),"") | R9: =IF(AND('Mapa inherente'!$H$11="Muy Alta",'Mapa inherente'!$L$11="Menor"),CONCATENATE("R",'Mapa inherente'!$A$11),"") | T9: =IF(AND('Mapa inherente'!$H$12="Muy Alta",'Mapa inherente'!$L$12="Menor"),CONCATENATE("R",'Mapa inherente'!$A$12),"") | V9: =IF(AND('Mapa inherente'!$H$10="Muy Alta",'Mapa inherente'!$L$10="Moderado"),CONCATENATE("R",'Mapa inherente'!$A$10),"") | X9: =IF(AND('Mapa inherente'!$H$11="Muy Alta",'Mapa inherente'!$L$11="Moderado"),CONCATENATE("R",'Mapa inherente'!$A$11),"") | Z9: =IF(AND('Mapa inherente'!$H$12="Muy Alta",'Mapa inherente'!$L$12="Moderado"),CONCATENATE("R",'Mapa inherente'!$A$12),"") | AB9: =IF(AND('Mapa inherente'!$H$10="Muy Alta",'Mapa inherente'!$L$10="Mayor"),CONCATENATE("R",'Mapa inherente'!$A$10),"") | AD9: =IF(AND('Mapa inherente'!$H$11="Muy Alta",'Mapa inherente'!$L$11="Mayor"),CONCATENATE("R",'Mapa inherente'!$A$11),"") | AF9: =IF(AND('Mapa inherente'!$H$12="Muy Alta",'Mapa inherente'!$L$12="Mayor"),CONCATENATE("R",'Mapa inherente'!$A$12),"") | AH9: =IF(AND('Mapa inherente'!$H$10="Muy Alta",'Mapa inherente'!$L$10="Catastrófico"),CONCATENATE("R",'Mapa inherente'!$A$10),"") | AJ9: =IF(AND('Mapa inherente'!$H$11="Muy Alta",'Mapa inherente'!$L$11="Catastrófico"),CONCATENATE("R",'Mapa inherente'!$A$11),"") | AL9: =IF(AND('Mapa inherente'!$H$12="Muy Alta",'Mapa inherente'!$L$12="Catastrófico"),CONCATENATE("R",'Mapa inherente'!$A$12),"") | AO9: Extremo
J11: =IF(AND('Mapa inherente'!$H$13="Muy Alta",'Mapa inherente'!$L$13="Leve"),CONCATENATE("R",'Mapa inherente'!$A$13),"") | L11: =IF(AND('Mapa inherente'!$H$14="Muy Alta",'Mapa inherente'!$L$14="Leve"),CONCATENATE("R",'Mapa inherente'!$A$14),"") | N11: =IF(AND('Mapa inherente'!$H$15="Muy Alta",'Mapa inherente'!$L$15="Leve"),CONCATENATE("R",'Mapa inherente'!$A$15),"") | P11: =IF(AND('Mapa inherente'!$H$13="Muy Alta",'Mapa inherente'!$L$13="Menor"),CONCATENATE("R",'Mapa inherente'!$A$13),"") | R11: =IF(AND('Mapa inherente'!$H$14="Muy Alta",'Mapa inherente'!$L$14="Menor"),CONCATENATE("R",'Mapa inherente'!$A$14),"") | T11: =IF(AND('Mapa inherente'!$H$15="Muy Alta",'Mapa inherente'!$L$15="Menor"),CONCATENATE("R",'Mapa inherente'!$A$15),"") | V11: =IF(AND('Mapa inherente'!$H$13="Muy Alta",'Mapa inherente'!$L$13="Moderado"),CONCATENATE("R",'Mapa inherente'!$A$13),"") | X11: =IF(AND('Mapa inherente'!$H$14="Muy Alta",'Mapa inherente'!$L$14="Moderado"),CONCATENATE("R",'Mapa inherente'!$A$14),"") | Z11: =IF(AND('Mapa inherente'!$H$15="Muy Alta",'Mapa inherente'!$L$15="Moderado"),CONCATENATE("R",'Mapa inherente'!$A$15),"") | AB11: =IF(AND('Mapa inherente'!$H$13="Muy Alta",'Mapa inherente'!$L$13="Mayor"),CONCATENATE("R",'Mapa inherente'!$A$13),"") | AD11: =IF(AND('Mapa inherente'!$H$14="Muy Alta",'Mapa inherente'!$L$14="Mayor"),CONCATENATE("R",'Mapa inherente'!$A$14),"") | AF11: =IF(AND('Mapa inherente'!$H$15="Muy Alta",'Mapa inherente'!$L$15="Mayor"),CONCATENATE("R",'Mapa inherente'!$A$15),"") | AH11: =IF(AND('Mapa inherente'!$H$13="Muy Alta",'Mapa inherente'!$L$13="Catastrófico"),CONCATENATE("R",'Mapa inherente'!$A$13),"") | AJ11: =IF(AND('Mapa inherente'!$H$14="Muy Alta",'Mapa inherente'!$L$14="Catastrófico"),CONCATENATE("R",'Mapa inherente'!$A$14),"") | AL11: =IF(AND('Mapa inherente'!$H$15="Muy Alta",'Mapa inherente'!$L$15="Catastrófico"),CONCATENATE("R",'Mapa inherente'!$A$15),"")
J13: =IF(AND('Mapa inherente'!$H$16="Muy Alta",'Mapa inherente'!$L$16="Leve"),CONCATENATE("R",'Mapa inherente'!$A$16),"") | L13: =IF(AND('Mapa inherente'!$H$17="Muy Alta",'Mapa inherente'!$L$17="Leve"),CONCATENATE("R",'Mapa inherente'!$A$17),"") | N13: =IF(AND('Mapa inherente'!$H$18="Muy Alta",'Mapa inherente'!$L$18="Leve"),CONCATENATE("R",'Mapa inherente'!$A$18),"") | P13: =IF(AND('Mapa inherente'!$H$16="Muy Alta",'Mapa inherente'!$L$16="Menor"),CONCATENATE("R",'Mapa inherente'!$A$16),"") | R13: =IF(AND('Mapa inherente'!$H$17="Muy Alta",'Mapa inherente'!$L$17="Menor"),CONCATENATE("R",'Mapa inherente'!$A$17),"") | T13: =IF(AND('Mapa inherente'!$H$18="Muy Alta",'Mapa inherente'!$L$18="Menor"),CONCATENATE("R",'Mapa inherente'!$A$18),"") | V13: =IF(AND('Mapa inherente'!$H$16="Muy Alta",'Mapa inherente'!$L$16="Moderado"),CONCATENATE("R",'Mapa inherente'!$A$16),"") | X13: =IF(AND('Mapa inherente'!$H$17="Muy Alta",'Mapa inherente'!$L$17="Moderado"),CONCATENATE("R",'Mapa inherente'!$A$17),"") | Z13: =IF(AND('Mapa inherente'!$H$18="Muy Alta",'Mapa inherente'!$L$18="Moderado"),CONCATENATE("R",'Mapa inherente'!$A$18),"") | AB13: =IF(AND('Mapa inherente'!$H$16="Muy Alta",'Mapa inherente'!$L$16="Mayor"),CONCATENATE("R",'Mapa inherente'!$A$16),"") | AD13: =IF(AND('Mapa inherente'!$H$17="Muy Alta",'Mapa inherente'!$L$17="Mayor"),CONCATENATE("R",'Mapa inherente'!$A$17),"") | AF13: =IF(AND('Mapa inherente'!$H$18="Muy Alta",'Mapa inherente'!$L$18="Mayor"),CONCATENATE("R",'Mapa inherente'!$A$18),"") | AH13: =IF(AND('Mapa inherente'!$H$16="Muy Alta",'Mapa inherente'!$L$16="Catastrófico"),CONCATENATE("R",'Mapa inherente'!$A$16),"") | AJ13: =IF(AND('Mapa inherente'!$H$17="Muy Alta",'Mapa inherente'!$L$17="Catastrófico"),CONCATENATE("R",'Mapa inherente'!$A$17),"") | AL13: =IF(AND('Mapa inherente'!$H$18="Muy Alta",'Mapa inherente'!$L$18="Catastrófico"),CONCATENATE("R",'Mapa inherente'!$A$18),"")
E15: Alta 80% | J15: =IF(AND('Mapa inherente'!$H$10="Alta",'Mapa inherente'!$L$10="Leve"),CONCATENATE("R",'Mapa inherente'!$A$10),"") | L15: =IF(AND('Mapa inherente'!$H$11="Alta",'Mapa inherente'!$L$11="Leve"),CONCATENATE("R",'Mapa inherente'!$A$11),"") | N15: =IF(AND('Mapa inherente'!$H$12="Alta",'Mapa inherente'!$L$12="Leve"),CONCATENATE("R",'Mapa inherente'!$A$12),"") | P15: =IF(AND('Mapa inherente'!$H$10="Alta",'Mapa inherente'!$L$10="Menor"),CONCATENATE("R",'Mapa inherente'!$A$10),"") | R15: =IF(AND('Mapa inherente'!$H$11="Alta",'Mapa inherente'!$L$11="Menor"),CONCATENATE("R",'Mapa inherente'!$A$11),"") | T15: =IF(AND('Mapa inherente'!$H$12="Alta",'Mapa inherente'!$L$12="Menor"),CONCATENATE("R",'Mapa inherente'!$A$12),"") | V15: =IF(AND('Mapa inherente'!$H$10="Alta",'Mapa inherente'!$L$10="Moderado"),CONCATENATE("R",'Mapa inherente'!$A$10),"") | X15: =IF(AND('Mapa inherente'!$H$11="Alta",'Mapa inherente'!$L$11="Moderado"),CONCATENATE("R",'Mapa inherente'!$A$11),"") | Z15: =IF(AND('Mapa inherente'!$H$12="Alta",'Mapa inherente'!$L$12="Moderado"),CONCATENATE("R",'Mapa inherente'!$A$12),"") | AB15: =IF(AND('Mapa inherente'!$H$10="Alta",'Mapa inherente'!$L$10="Mayor"),CONCATENATE("R",'Mapa inherente'!$A$10),"") | AD15: =IF(AND('Mapa inherente'!$H$11="Alta",'Mapa inherente'!$L$11="Mayor"),CONCATENATE("R",'Mapa inherente'!$A$11),"") | AF15: =IF(AND('Mapa inherente'!$H$12="Alta",'Mapa inherente'!$L$12="Mayor"),CONCATENATE("R",'Mapa inherente'!$A$12),"") | AH15: =IF(AND('Mapa inherente'!$H$10="Alta",'Mapa inherente'!$L$10="Catastrófico"),CONCATENATE("R",'Mapa inherente'!$A$10),"") | AJ15: =IF(AND('Mapa inherente'!$H$11="Alta",'Mapa inherente'!$L$11="Catastrófico"),CONCATENATE("R",'Mapa inherente'!$A$11),"") | AL15: =IF(AND('Mapa inherente'!$H$12="Alta",'Mapa inherente'!$L$12="Catastrófico"),CONCATENATE("R",'Mapa inherente'!$A$12),"") | AO15: Alto
J17: =IF(AND('Mapa inherente'!$H$13="Alta",'Mapa inherente'!$L$13="Leve"),CONCATENATE("R",'Mapa inherente'!$A$13),"") | L17: =IF(AND('Mapa inherente'!$H$14="Alta",'Mapa inherente'!$L$14="Leve"),CONCATENATE("R",'Mapa inherente'!$A$14),"") | N17: =IF(AND('Mapa inherente'!$H$15="Alta",'Mapa inherente'!$L$15="Leve"),CONCATENATE("R",'Mapa inherente'!$A$15),"") | P17: =IF(AND('Mapa inherente'!$H$13="Alta",'Mapa inherente'!$L$13="Menor"),CONCATENATE("R",'Mapa inherente'!$A$13),"") | R17: =IF(AND('Mapa inherente'!$H$14="Alta",'Mapa inherente'!$L$14="Menor"),CONCATENATE("R",'Mapa inherente'!$A$14),"") | T17: =IF(AND('Mapa inherente'!$H$15="Alta",'Mapa inherente'!$L$15="Menor"),CONCATENATE("R",'Mapa inherente'!$A$15),"") | V17: =IF(AND('Mapa inherente'!$H$13="Alta",'Mapa inherente'!$L$13="Moderado"),CONCATENATE("R",'Mapa inherente'!$A$13),"") | X17: =IF(AND('Mapa inherente'!$H$14="Alta",'Mapa inherente'!$L$14="Moderado"),CONCATENATE("R",'Mapa inherente'!$A$14),"") | Z17: =IF(AND('Mapa inherente'!$H$15="Alta",'Mapa inherente'!$L$15="Moderado"),CONCATENATE("R",'Mapa inherente'!$A$15),"") | AB17: =IF(AND('Mapa inherente'!$H$13="Alta",'Mapa inherente'!$L$13="Mayor"),CONCATENATE("R",'Mapa inherente'!$A$13),"") | AD17: =IF(AND('Mapa inherente'!$H$14="Alta",'Mapa inherente'!$L$14="Mayor"),CONCATENATE("R",'Mapa inherente'!$A$14),"") | AF17: =IF(AND('Mapa inherente'!$H$15="Alta",'Mapa inherente'!$L$15="Mayor"),CONCATENATE("R",'Mapa inherente'!$A$15),"") | AH17: =IF(AND('Mapa inherente'!$H$13="Alta",'Mapa inherente'!$L$13="Catastrófico"),CONCATENATE("R",'Mapa inherente'!$A$13),"") | AJ17: =IF(AND('Mapa inherente'!$H$14="Alta",'Mapa inherente'!$L$14="Catastrófico"),CONCATENATE("R",'Mapa inherente'!$A$14),"") | AL17: =IF(AND('Mapa inherente'!$H$15="Alta",'Mapa inherente'!$L$15="Catastrófico"),CONCATENATE("R",'Mapa inherente'!$A$15),"")
J19: =IF(AND('Mapa inherente'!$H$16="Alta",'Mapa inherente'!$L$16="Leve"),CONCATENATE("R",'Mapa inherente'!$A$16),"") | L19: =IF(AND('Mapa inherente'!$H$17="Alta",'Mapa inherente'!$L$17="Leve"),CONCATENATE("R",'Mapa inherente'!$A$17),"") | N19: =IF(AND('Mapa inherente'!$H$18="Alta",'Mapa inherente'!$L$18="Leve"),CONCATENATE("R",'Mapa inherente'!$A$18),"") | P19: =IF(AND('Mapa inherente'!$H$16="Alta",'Mapa inherente'!$L$16="Menor"),CONCATENATE("R",'Mapa inherente'!$A$16),"") | R19: =IF(AND('Mapa inherente'!$H$17="Alta",'Mapa inherente'!$L$17="Menor"),CONCATENATE("R",'Mapa inherente'!$A$17),"") | T19: =IF(AND('Mapa inherente'!$H$18="Alta",'Mapa inherente'!$L$18="Menor"),CONCATENATE("R",'Mapa inherente'!$A$18),"") | V19: =IF(AND('Mapa inherente'!$H$16="Alta",'Mapa inherente'!$L$16="Moderado"),CONCATENATE("R",'Mapa inherente'!$A$16),"") | X19: =IF(AND('Mapa inherente'!$H$17="Alta",'Mapa inherente'!$L$17="Moderado"),CONCATENATE("R",'Mapa inherente'!$A$17),"") | Z19: =IF(AND('Mapa inherente'!$H$18="Alta",'Mapa inherente'!$L$18="Moderado"),CONCATENATE("R",'Mapa inherente'!$A$18),"") | AB19: =IF(AND('Mapa inherente'!$H$16="Alta",'Mapa inherente'!$L$16="Mayor"),CONCATENATE("R",'Mapa inherente'!$A$16),"") | AD19: =IF(AND('Mapa inherente'!$H$17="Alta",'Mapa inherente'!$L$17="Mayor"),CONCATENATE("R",'Mapa inherente'!$A$17),"") | AF19: =IF(AND('Mapa inherente'!$H$18="Alta",'Mapa inherente'!$L$18="Mayor"),CONCATENATE("R",'Mapa inherente'!$A$18),"") | AH19: =IF(AND('Mapa inherente'!$H$16="Alta",'Mapa inherente'!$L$16="Catastrófico"),CONCATENATE("R",'Mapa inherente'!$A$16),"") | AJ19: =IF(AND('Mapa inherente'!$H$17="Alta",'Mapa inherente'!$L$17="Catastrófico"),CONCATENATE("R",'Mapa inherente'!$A$17),"") | AL19: =IF(AND('Mapa inherente'!$H$18="Alta",'Mapa inherente'!$L$18="Catastrófico"),CONCATENATE("R",'Mapa inherente'!$A$18),"")
E21: Media 60% | J21: =IF(AND('Mapa inherente'!$H$10="Media",'Mapa inherente'!$L$10="Leve"),CONCATENATE("R",'Mapa inherente'!$A$10),"") | L21: =IF(AND('Mapa inherente'!$H$11="Media",'Mapa inherente'!$L$11="Leve"),CONCATENATE("R",'Mapa inherente'!$A$11),"") | N21: =IF(AND('Mapa inherente'!$H$12="Media",'Mapa inherente'!$L$12="Leve"),CONCATENATE("R",'Mapa inherente'!$A$12),"") | P21: =IF(AND('Mapa inherente'!$H$10="Media",'Mapa inherente'!$L$10="Menor"),CONCATENATE("R",'Mapa inherente'!$A$10),"") | R21: =IF(AND('Mapa inherente'!$H$11="Media",'Mapa inherente'!$L$11="Menor"),CONCATENATE("R",'Mapa inherente'!$A$11),"") | T21: =IF(AND('Mapa inherente'!$H$12="Media",'Mapa inherente'!$L$12="Menor"),CONCATENATE("R",'Mapa inherente'!$A$12),"") | V21: =IF(AND('Mapa inherente'!$H$10="Media",'Mapa inherente'!$L$10="Moderado"),CONCATENATE("R",'Mapa inherente'!$A$10),"") | X21: =IF(AND('Mapa inherente'!$H$11="Media",'Mapa inherente'!$L$11="Moderado"),CONCATENATE("R",'Mapa inherente'!$A$11),"") | Z21: =IF(AND('Mapa inherente'!$H$12="Media",'Mapa inherente'!$L$12="Moderado"),CONCATENATE("R",'Mapa inherente'!$A$12),"") | AB21: =IF(AND('Mapa inherente'!$H$10="Media",'Mapa inherente'!$L$10="Mayor"),CONCATENATE("R",'Mapa inherente'!$A$10),"") | AD21: =IF(AND('Mapa inherente'!$H$11="Media",'Mapa inherente'!$L$11="Mayor"),CONCATENATE("R",'Mapa inherente'!$A$11),"") | AF21: =IF(AND('Mapa inherente'!$H$12="Media",'Mapa inherente'!$L$12="Mayor"),CONCATENATE("R",'Mapa inherente'!$A$12),"") | AH21: =IF(AND('Mapa inherente'!$H$10="Media",'Mapa inherente'!$L$10="Catastrófico"),CONCATENATE("R",'Mapa inherente'!$A$10),"") | AJ21: =IF(AND('Mapa inherente'!$H$11="Media",'Mapa inherente'!$L$11="Catastrófico"),CONCATENATE("R",'Mapa inherente'!$A$11),"") | AL21: =IF(AND('Mapa inherente'!$H$12="Media",'Mapa inherente'!$L$12="Catastrófico"),CONCATENATE("R",'Mapa inherente'!$A$12),"") | AO21: Moderado
J23: =IF(AND('Mapa inherente'!$H$13="Media",'Mapa inherente'!$L$13="Leve"),CONCATENATE("R",'Mapa inherente'!$A$13),"") | L23: =IF(AND('Mapa inherente'!$H$14="Media",'Mapa inherente'!$L$14="Leve"),CONCATENATE("R",'Mapa inherente'!$A$14),"") | N23: =IF(AND('Mapa inherente'!$H$15="Media",'Mapa inherente'!$L$15="Leve"),CONCATENATE("R",'Mapa inherente'!$A$15),"") | P23: =IF(AND('Mapa inherente'!$H$13="Media",'Mapa inherente'!$L$13="Menor"),CONCATENATE("R",'Mapa inherente'!$A$13),"") | R23: =IF(AND('Mapa inherente'!$H$14="Media",'Mapa inherente'!$L$14="Menor"),CONCATENATE("R",'Mapa inherente'!$A$14),"") | T23: =IF(AND('Mapa inherente'!$H$15="Media",'Mapa inherente'!$L$15="Menor"),CONCATENATE("R",'Mapa inherente'!$A$15),"") | V23: =IF(AND('Mapa inherente'!$H$13="Media",'Mapa inherente'!$L$13="Moderado"),CONCATENATE("R",'Mapa inherente'!$A$13),"") | X23: =IF(AND('Mapa inherente'!$H$14="Media",'Mapa inherente'!$L$14="Moderado"),CONCATENATE("R",'Mapa inherente'!$A$14),"") | Z23: =IF(AND('Mapa inherente'!$H$15="Media",'Mapa inherente'!$L$15="Moderado"),CONCATENATE("R",'Mapa inherente'!$A$15),"") | AB23: =IF(AND('Mapa inherente'!$H$13="Media",'Mapa inherente'!$L$13="Mayor"),CONCATENATE("R",'Mapa inherente'!$A$13),"") | AD23: =IF(AND('Mapa inherente'!$H$14="Media",'Mapa inherente'!$L$14="Mayor"),CONCATENATE("R",'Mapa inherente'!$A$14),"") | AF23: =IF(AND('Mapa inherente'!$H$15="Media",'Mapa inherente'!$L$15="Mayor"),CONCATENATE("R",'Mapa inherente'!$A$15),"") | AH23: =IF(AND('Mapa inherente'!$H$13="Media",'Mapa inherente'!$L$13="Catastrófico"),CONCATENATE("R",'Mapa inherente'!$A$13),"") | AJ23: =IF(AND('Mapa inherente'!$H$14="Media",'Mapa inherente'!$L$14="Catastrófico"),CONCATENATE("R",'Mapa inherente'!$A$14),"") | AL23: =IF(AND('Mapa inherente'!$H$15="Media",'Mapa inherente'!$L$15="Catastrófico"),CONCATENATE("R",'Mapa inherente'!$A$15),"")
J25: =IF(AND('Mapa inherente'!$H$16="Media",'Mapa inherente'!$L$16="Leve"),CONCATENATE("R",'Mapa inherente'!$A$16),"") | L25: =IF(AND('Mapa inherente'!$H$17="Media",'Mapa inherente'!$L$17="Leve"),CONCATENATE("R",'Mapa inherente'!$A$17),"") | N25: =IF(AND('Mapa inherente'!$H$18="Media",'Mapa inherente'!$L$18="Leve"),CONCATENATE("R",'Mapa inherente'!$A$18),"") | P25: =IF(AND('Mapa inherente'!$H$16="Media",'Mapa inherente'!$L$16="Menor"),CONCATENATE("R",'Mapa inherente'!$A$16),"") | R25: =IF(AND('Mapa inherente'!$H$17="Media",'Mapa inherente'!$L$17="Menor"),CONCATENATE("R",'Mapa inherente'!$A$17),"") | T25: =IF(AND('Mapa inherente'!$H$18="Media",'Mapa inherente'!$L$18="Menor"),CONCATENATE("R",'Mapa inherente'!$A$18),"") | V25: =IF(AND('Mapa inherente'!$H$16="Media",'Mapa inherente'!$L$16="Moderado"),CONCATENATE("R",'Mapa inherente'!$A$16),"") | X25: =IF(AND('Mapa inherente'!$H$17="Media",'Mapa inherente'!$L$17="Moderado"),CONCATENATE("R",'Mapa inherente'!$A$17),"") | Z25: =IF(AND('Mapa inherente'!$H$18="Media",'Mapa inherente'!$L$18="Moderado"),CONCATENATE("R",'Mapa inherente'!$A$18),"") | AB25: =IF(AND('Mapa inherente'!$H$16="Media",'Mapa inherente'!$L$16="Mayor"),CONCATENATE("R",'Mapa inherente'!$A$16),"") | AD25: =IF(AND('Mapa inherente'!$H$17="Media",'Mapa inherente'!$L$17="Mayor"),CONCATENATE("R",'Mapa inherente'!$A$17),"") | AF25: =IF(AND('Mapa inherente'!$H$18="Media",'Mapa inherente'!$L$18="Mayor"),CONCATENATE("R",'Mapa inherente'!$A$18),"") | AH25: =IF(AND('Mapa inherente'!$H$16="Media",'Mapa inherente'!$L$16="Catastrófico"),CONCATENATE("R",'Mapa inherente'!$A$16),"") | AJ25: =IF(AND('Mapa inherente'!$H$17="Media",'Mapa inherente'!$L$17="Catastrófico"),CONCATENATE("R",'Mapa inherente'!$A$17),"") | AL25: =IF(AND('Mapa inherente'!$H$18="Media",'Mapa inherente'!$L$18="Catastrófico"),CONCATENATE("R",'Mapa inherente'!$A$18),"")
E27: Baja 40% | J27: =IF(AND('Mapa inherente'!$H$10="Baja",'Mapa inherente'!$L$10="Leve"),CONCATENATE("R",'Mapa inherente'!$A$10),"") | L27: =IF(AND('Mapa inherente'!$H$11="Baja",'Mapa inherente'!$L$11="Leve"),CONCATENATE("R",'Mapa inherente'!$A$11),"") | N27: =IF(AND('Mapa inherente'!$H$12="Baja",'Mapa inherente'!$L$12="Leve"),CONCATENATE("R",'Mapa inherente'!$A$12),"") | P27: =IF(AND('Mapa inherente'!$H$10="Baja",'Mapa inherente'!$L$10="Menor"),CONCATENATE("R",'Mapa inherente'!$A$10),"") | R27: =IF(AND('Mapa inherente'!$H$11="Baja",'Mapa inherente'!$L$11="Menor"),CONCATENATE("R",'Mapa inherente'!$A$11),"") | T27: =IF(AND('Mapa inherente'!$H$12="Baja",'Mapa inherente'!$L$12="Menor"),CONCATENATE("R",'Mapa inherente'!$A$12),"") | V27: =IF(AND('Mapa inherente'!$H$10="Baja",'Mapa inherente'!$L$10="Moderado"),CONCATENATE("R",'Mapa inherente'!$A$10),"") | X27: =IF(AND('Mapa inherente'!$H$11="Baja",'Mapa inherente'!$L$11="Moderado"),CONCATENATE("R",'Mapa inherente'!$A$11),"") | Z27: =IF(AND('Mapa inherente'!$H$12="Baja",'Mapa inherente'!$L$12="Moderado"),CONCATENATE("R",'Mapa inherente'!$A$12),"") | AB27: =IF(AND('Mapa inherente'!$H$10="Baja",'Mapa inherente'!$L$10="Mayor"),CONCATENATE("R",'Mapa inherente'!$A$10),"") | AD27: =IF(AND('Mapa inherente'!$H$11="Baja",'Mapa inherente'!$L$11="Mayor"),CONCATENATE("R",'Mapa inherente'!$A$11),"") | AF27: =IF(AND('Mapa inherente'!$H$12="Baja",'Mapa inherente'!$L$12="Mayor"),CONCATENATE("R",'Mapa inherente'!$A$12),"") | AH27: =IF(AND('Mapa inherente'!$H$10="Baja",'Mapa inherente'!$L$10="Catastrófico"),CONCATENATE("R",'Mapa inherente'!$A$10),"") | AJ27: =IF(AND('Mapa inherente'!$H$11="Baja",'Mapa inherente'!$L$11="Catastrófico"),CONCATENATE("R",'Mapa inherente'!$A$11),"") | AL27: =IF(AND('Mapa inherente'!$H$12="Baja",'Mapa inherente'!$L$12="Catastrófico"),CONCATENATE("R",'Mapa inherente'!$A$12),"") | AO27: Bajo
J29: =IF(AND('Mapa inherente'!$H$13="Baja",'Mapa inherente'!$L$13="Leve"),CONCATENATE("R",'Mapa inherente'!$A$13),"") | L29: =IF(AND('Mapa inherente'!$H$14="Baja",'Mapa inherente'!$L$14="Leve"),CONCATENATE("R",'Mapa inherente'!$A$14),"") | N29: =IF(AND('Mapa inherente'!$H$15="Baja",'Mapa inherente'!$L$15="Leve"),CONCATENATE("R",'Mapa inherente'!$A$15),"") | P29: =IF(AND('Mapa inherente'!$H$13="Baja",'Mapa inherente'!$L$13="Menor"),CONCATENATE("R",'Mapa inherente'!$A$13),"") | R29: =IF(AND('Mapa inherente'!$H$14="Baja",'Mapa inherente'!$L$14="Menor"),CONCATENATE("R",'Mapa inherente'!$A$14),"") | T29: =IF(AND('Mapa inherente'!$H$15="Baja",'Mapa inherente'!$L$15="Menor"),CONCATENATE("R",'Mapa inherente'!$A$15),"") | V29: =IF(AND('Mapa inherente'!$H$13="Baja",'Mapa inherente'!$L$13="Moderado"),CONCATENATE("R",'Mapa inherente'!$A$13),"") | X29: =IF(AND('Mapa inherente'!$H$14="Baja",'Mapa inherente'!$L$14="Moderado"),CONCATENATE("R",'Mapa inherente'!$A$14),"") | Z29: =IF(AND('Mapa inherente'!$H$15="Baja",'Mapa inherente'!$L$15="Moderado"),CONCATENATE("R",'Mapa inherente'!$A$15),"") | AB29: =IF(AND('Mapa inherente'!$H$13="Baja",'Mapa inherente'!$L$13="Mayor"),CONCATENATE("R",'Mapa inherente'!$A$13),"") | AD29: =IF(AND('Mapa inherente'!$H$14="Baja",'Mapa inherente'!$L$14="Mayor"),CONCATENATE("R",'Mapa inherente'!$A$14),"") | AF29: =IF(AND('Mapa inherente'!$H$15="Baja",'Mapa inherente'!$L$15="Mayor"),CONCATENATE("R",'Mapa inherente'!$A$15),"") | AH29: =IF(AND('Mapa inherente'!$H$13="Baja",'Mapa inherente'!$L$13="Catastrófico"),CONCATENATE("R",'Mapa inherente'!$A$13),"") | AJ29: =IF(AND('Mapa inherente'!$H$14="Baja",'Mapa inherente'!$L$14="Catastrófico"),CONCATENATE("R",'Mapa inherente'!$A$14),"") | AL29: =IF(AND('Mapa inherente'!$H$15="Baja",'Mapa inherente'!$L$15="Catastrófico"),CONCATENATE("R",'Mapa inherente'!$A$15),"")
J31: =IF(AND('Mapa inherente'!$H$16="Baja",'Mapa inherente'!$L$16="Leve"),CONCATENATE("R",'Mapa inherente'!$A$16),"") | L31: =IF(AND('Mapa inherente'!$H$17="Baja",'Mapa inherente'!$L$17="Leve"),CONCATENATE("R",'Mapa inherente'!$A$17),"") | N31: =IF(AND('Mapa inherente'!$H$18="Baja",'Mapa inherente'!$L$18="Leve"),CONCATENATE("R",'Mapa inherente'!$A$18),"") | P31: =IF(AND('Mapa inherente'!$H$16="Baja",'Mapa inherente'!$L$16="Menor"),CONCATENATE("R",'Mapa inherente'!$A$16),"") | R31: =IF(AND('Mapa inherente'!$H$17="Baja",'Mapa inherente'!$L$17="Menor"),CONCATENATE("R",'Mapa inherente'!$A$17),"") | T31: =IF(AND('Mapa inherente'!$H$18="Baja",'Mapa inherente'!$L$18="Menor"),CONCATENATE("R",'Mapa inherente'!$A$18),"") | V31: =IF(AND('Mapa inherente'!$H$16="Baja",'Mapa inherente'!$L$16="Moderado"),CONCATENATE("R",'Mapa inherente'!$A$16),"") | X31: =IF(AND('Mapa inherente'!$H$17="Baja",'Mapa inherente'!$L$17="Moderado"),CONCATENATE("R",'Mapa inherente'!$A$17),"") | Z31: =IF(AND('Mapa inherente'!$H$18="Baja",'Mapa inherente'!$L$18="Moderado"),CONCATENATE("R",'Mapa inherente'!$A$18),"") | AB31: =IF(AND('Mapa inherente'!$H$16="Baja",'Mapa inherente'!$L$16="Mayor"),CONCATENATE("R",'Mapa inherente'!$A$16),"") | AD31: =IF(AND('Mapa inherente'!$H$17="Baja",'Mapa inherente'!$L$17="Mayor"),CONCATENATE("R",'Mapa inherente'!$A$17),"") | AF31: =IF(AND('Mapa inherente'!$H$18="Baja",'Mapa inherente'!$L$18="Mayor"),CONCATENATE("R",'Mapa inherente'!$A$18),"") | AH31: =IF(AND('Mapa inherente'!$H$16="Baja",'Mapa inherente'!$L$16="Catastrófico"),CONCATENATE("R",'Mapa inherente'!$A$16),"") | AJ31: =IF(AND('Mapa inherente'!$H$17="Baja",'Mapa inherente'!$L$17="Catastrófico"),CONCATENATE("R",'Mapa inherente'!$A$17),"") | AL31: =IF(AND('Mapa inherente'!$H$18="Baja",'Mapa inherente'!$L$18="Catastrófico"),CONCATENATE("R",'Mapa inherente'!$A$18),"")
E33: Muy Baja 20% | J33: =IF(AND('Mapa inherente'!$H$10="Muy Baja",'Mapa inherente'!$L$10="Leve"),CONCATENATE("R",'Mapa inherente'!$A$10),"") | L33: =IF(AND('Mapa inherente'!$H$11="Muy Baja",'Mapa inherente'!$L$11="Leve"),CONCATENATE("R",'Mapa inherente'!$A$11),"") | N33: =IF(AND('Mapa inherente'!$H$12="Muy Baja",'Mapa inherente'!$L$12="Leve"),CONCATENATE("R",'Mapa inherente'!$A$12),"") | P33: =IF(AND('Mapa inherente'!$H$10="Muy Baja",'Mapa inherente'!$L$10="Menor"),CONCATENATE("R",'Mapa inherente'!$A$10),"") | R33: =IF(AND('Mapa inherente'!$H$11="Muy Baja",'Mapa inherente'!$L$11="Menor"),CONCATENATE("R",'Mapa inherente'!$A$11),"") | T33: =IF(AND('Mapa inherente'!$H$12="Muy Baja",'Mapa inherente'!$L$12="Menor"),CONCATENATE("R",'Mapa inherente'!$A$12),"") | V33: =IF(AND('Mapa inherente'!$H$10="Muy Baja",'Mapa inherente'!$L$10="Moderado"),CONCATENATE("R",'Mapa inherente'!$A$10),"") -> R1 | X33: =IF(AND('Mapa inherente'!$H$11="Muy Baja",'Mapa inherente'!$L$11="Moderado"),CONCATENATE("R",'Mapa inherente'!$A$11),"") | Z33: =IF(AND('Mapa inherente'!$H$12="Muy Baja",'Mapa inherente'!$L$12="Moderado"),CONCATENATE("R",'Mapa inherente'!$A$12),"") | AB33: =IF(AND('Mapa inherente'!$H$10="Muy Baja",'Mapa inherente'!$L$10="Mayor"),CONCATENATE("R",'Mapa inherente'!$A$10),"") | AD33: =IF(AND('Mapa inherente'!$H$11="Muy Baja",'Mapa inherente'!$L$11="Mayor"),CONCATENATE("R",'Mapa inherente'!$A$11),"") -> R2 | AF33: =IF(AND('Mapa inherente'!$H$12="Muy Baja",'Mapa inherente'!$L$12="Mayor"),CONCATENATE("R",'Mapa inherente'!$A$12),"") -> R3 | AH33: =IF(AND('Mapa inherente'!$H$10="Muy Baja",'Mapa inherente'!$L$10="Catastrófico"),CONCATENATE("R",'Mapa inherente'!$A$10),"") | AJ33: =IF(AND('Mapa inherente'!$H$11="Muy Baja",'Mapa inherente'!$L$11="Catastrófico"),CONCATENATE("R",'Mapa inherente'!$A$11),"") | AL33: =IF(AND('Mapa inherente'!$H$12="Muy Baja",'Mapa inherente'!$L$12="Catastrófico"),CONCATENATE("R",'Mapa inherente'!$A$12),"")
J35: =IF(AND('Mapa inherente'!$H$13="Muy Baja",'Mapa inherente'!$L$13="Leve"),CONCATENATE("R",'Mapa inherente'!$A$13),"") | L35: =IF(AND('Mapa inherente'!$H$14="Muy Baja",'Mapa inherente'!$L$14="Leve"),CONCATENATE("R",'Mapa inherente'!$A$14),"") | N35: =IF(AND('Mapa inherente'!$H$15="Muy Baja",'Mapa inherente'!$L$15="Leve"),CONCATENATE("R",'Mapa inherente'!$A$15),"") | P35: =IF(AND('Mapa inherente'!$H$13="Muy Baja",'Mapa inherente'!$L$13="Menor"),CONCATENATE("R",'Mapa inherente'!$A$13),"") | R35: =IF(AND('Mapa inherente'!$H$14="Muy Baja",'Mapa inherente'!$L$14="Menor"),CONCATENATE("R",'Mapa inherente'!$A$14),"") | T35: =IF(AND('Mapa inherente'!$H$15="Muy Baja",'Mapa inherente'!$L$15="Menor"),CONCATENATE("R",'Mapa inherente'!$A$15),"") | V35: =IF(AND('Mapa inherente'!$H$13="Muy Baja",'Mapa inherente'!$L$13="Moderado"),CONCATENATE("R",'Mapa inherente'!$A$13),"") | X35: =IF(AND('Mapa inherente'!$H$14="Muy Baja",'Mapa inherente'!$L$14="Moderado"),CONCATENATE("R",'Mapa inherente'!$A$14),"") | Z35: =IF(AND('Mapa inherente'!$H$15="Muy Baja",'Mapa inherente'!$L$15="Moderado"),CONCATENATE("R",'Mapa inherente'!$A$15),"") | AB35: =IF(AND('Mapa inherente'!$H$13="Muy Baja",'Mapa inherente'!$L$13="Mayor"),CONCATENATE("R",'Mapa inherente'!$A$13),"") -> R4 | AD35: =IF(AND('Mapa inherente'!$H$14="Muy Baja",'Mapa inherente'!$L$14="Mayor"),CONCATENATE("R",'Mapa inherente'!$A$14),"") -> R5 | AF35: =IF(AND('Mapa inherente'!$H$15="Muy Baja",'Mapa inherente'!$L$15="Mayor"),CONCATENATE("R",'Mapa inherente'!$A$15),"") | AH35: =IF(AND('Mapa inherente'!$H$13="Muy Baja",'Mapa inherente'!$L$13="Catastrófico"),CONCATENATE("R",'Mapa inherente'!$A$13),"") | AJ35: =IF(AND('Mapa inherente'!$H$14="Muy Baja",'Mapa inherente'!$L$14="Catastrófico"),CONCATENATE("R",'Mapa inherente'!$A$14),"") | AL35: =IF(AND('Mapa inherente'!$H$15="Muy Baja",'Mapa inherente'!$L$15="Catastrófico"),CONCATENATE("R",'Mapa inherente'!$A$15),"")
J37: =IF(AND('Mapa inherente'!$H$16="Muy Baja",'Mapa inherente'!$L$16="Leve"),CONCATENATE("R",'Mapa inherente'!$A$16),"") | L37: =IF(AND('Mapa inherente'!$H$17="Muy Baja",'Mapa inherente'!$L$17="Leve"),CONCATENATE("R",'Mapa inherente'!$A$17),"") | N37: =IF(AND('Mapa inherente'!$H$18="Muy Baja",'Mapa inherente'!$L$18="Leve"),CONCATENATE("R",'Mapa inherente'!$A$18),"") | P37: =IF(AND('Mapa inherente'!$H$16="Muy Baja",'Mapa inherente'!$L$16="Menor"),CONCATENATE("R",'Mapa inherente'!$A$16),"") | R37: =IF(AND('Mapa inherente'!$H$17="Muy Baja",'Mapa inherente'!$L$17="Menor"),CONCATENATE("R",'Mapa inherente'!$A$17),"") | T37: =IF(AND('Mapa inherente'!$H$18="Muy Baja",'Mapa inherente'!$L$18="Menor"),CONCATENATE("R",'Mapa inherente'!$A$18),"") | V37: =IF(AND('Mapa inherente'!$H$16="Muy Baja",'Mapa inherente'!$L$16="Moderado"),CONCATENATE("R",'Mapa inherente'!$A$16),"") | X37: =IF(AND('Mapa inherente'!$H$17="Muy Baja",'Mapa inherente'!$L$17="Moderado"),CONCATENATE("R",'Mapa inherente'!$A$17),"") | Z37: =IF(AND('Mapa inherente'!$H$18="Muy Baja",'Mapa inherente'!$L$18="Moderado"),CONCATENATE("R",'Mapa inherente'!$A$18),"") | AB37: =IF(AND('Mapa inherente'!$H$16="Muy Baja",'Mapa inherente'!$L$16="Mayor"),CONCATENATE("R",'Mapa inherente'!$A$16),"") | AD37: =IF(AND('Mapa inherente'!$H$17="Muy Baja",'Mapa inherente'!$L$17="Mayor"),CONCATENATE("R",'Mapa inherente'!$A$17),"") | AF37: =IF(AND('Mapa inherente'!$H$18="Muy Baja",'Mapa inherente'!$L$18="Mayor"),CONCATENATE("R",'Mapa inherente'!$A$18),"") | AH37: =IF(AND('Mapa inherente'!$H$16="Muy Baja",'Mapa inherente'!$L$16="Catastrófico"),CONCATENATE("R",'Mapa inherente'!$A$16),"") | AJ37: =IF(AND('Mapa inherente'!$H$17="Muy Baja",'Mapa inherente'!$L$17="Catastrófico"),CONCATENATE("R",'Mapa inherente'!$A$17),"") | AL37: =IF(AND('Mapa inherente'!$H$18="Muy Baja",'Mapa inherente'!$L$18="Catastrófico"),CONCATENATE("R",'Mapa inherente'!$A$18),"")
J39: Leve 20% | P39: Menor 40% | V39: Moderado 60% | AB39: Mayor 80% | AH39: Catastrófico 100%

Sheet Hoja de controles
B1: UNIVERSIDAD DE CÓRDOBA | S1: CÓDIGO: FMAM-013 VERSIÓN: 06 EMISIÓN: 12/12/2023
B2: MATRIZ MAPA DE RIESGOS
A7: Ref. Riesgo - Seleccione un valor | B7: Descripción Riesgo - No editable | C7: Riesgo Inherente - No editable | D7: Valoración de controles | O7: Nivel de riesgo residual
D8: No. Control - No editable | E8: Descripción del Control | F8: Periodicidad Ejemplo: Diario, Semanal, Mensual, etc. | G8: Evidencia Ejemplo: Informe de revisión, Acta de reunión. | H8: Atributos | N8: Componente que afecta | O8: Probabilidad Residual | P8: Zona probabilidad residual | Q8: Impacto residual | R8: Zona Impacto Residual | S8: Zona de Riesgo Final | T8: Tratamiento
H9: Tipo | I9: Implementación | J9: Documentación | K9: Frecuencia | L9: Evidencia | M9: Nivel de afectación a riesgo
